BEGIN:VCALENDAR
VERSION:2.0
PRODID:-//МБК - ECPv4.6.16//NONSGML v1.0//EN
CALSCALE:GREGORIAN
METHOD:PUBLISH
X-WR-CALNAME:МБК
X-ORIGINAL-URL:https://mbk.rv.ua
X-WR-CALDESC:Events for МБК
BEGIN:VEVENT
DTSTART;TZID=Europe/Kyiv:20241115T190000
DTEND;TZID=Europe/Kyiv:20241115T210000
DTSTAMP:20260422T162204
CREATED:20241015T121438Z
LAST-MODIFIED:20241015T121438Z
UID:10620-1731697200-1731704400@mbk.rv.ua
SUMMARY:Алла Волкова і Славік Мартинюк. Стендап тур «Андердоґи»
DESCRIPTION:\n15 листопада 2024 року\n19:00\nГлядацька зала\n\n\n\nАлла Волкова та Славік Мартинюк їдуть до вашого міста зі своїм стендап концертом! \nЩе три роки тому ви могли бачити цих людей на звичайній роботі\, а зараз вони збирають тисячі людей наживо і мільйони переглядів в медіа \nСтендап-тур «Андердоґи» – це історія саме цих людей\, що вірили в себе і змогли добитися свого\, попри всі перешкоди \nА також багато жартів\, цікавих історій і якісного стендапу \n\n\n\n\n\n  \n\n\nКВИТКИ:  \n– на сайті https://rivne.karabas.com/alla-volkova-i-slavik-martynyuk-stendap-tur-anderdogy-1/ \n\n\n☎️ 066 171 3456  \n
URL:https://mbk.rv.ua/event/%d0%b0%d0%bb%d0%bb%d0%b0-%d0%b2%d0%be%d0%bb%d0%ba%d0%be%d0%b2%d0%b0-%d1%96-%d1%81%d0%bb%d0%b0%d0%b2%d1%96%d0%ba-%d0%bc%d0%b0%d1%80%d1%82%d0%b8%d0%bd%d1%8e%d0%ba-%d1%81%d1%82%d0%b5%d0%bd%d0%b4%d0%b0/
CATEGORIES:стендап
END:VEVENT
END:VCALENDAR