BEGIN:VCALENDAR
VERSION:2.0
PRODID:-//МБК - ECPv4.6.16//NONSGML v1.0//EN
CALSCALE:GREGORIAN
METHOD:PUBLISH
X-WR-CALNAME:МБК
X-ORIGINAL-URL:https://mbk.rv.ua
X-WR-CALDESC:Events for МБК
BEGIN:VEVENT
DTSTART;TZID=Europe/Kyiv:20240519T200000
DTEND;TZID=Europe/Kyiv:20240519T220000
DTSTAMP:20260423T030751
CREATED:20240424T143708Z
LAST-MODIFIED:20240424T143708Z
UID:10141-1716148800-1716156000@mbk.rv.ua
SUMMARY:Великий Стендап Концерт
DESCRIPTION:\n19 травня 2024 року\n20:00\nГлядацька зала\n\nВеликий Стендап – це івент\, який обіцяє вам незабутній досвід сміху і розваг! Це місце\, де досвідчені стендап-коміки зберуться\, щоб розірвати зал сміхом і зарядити вас позитивною енергією. \nТому\, пам’ятайте\, що готуватися до вечора стендапу варто завчасно! \nБудьте впевнені\, що перший ряд буде найгарячішим місцем у залі\, тому не зволікайте і приходьте пораніше\, аби отримати найкраще місце і насолодитися морем сміху! \nКоміки: \n1. Марк Свиридюк @sviridyuk.mark44\n2. Фелікс Редька @felix.redka\n3. Богдан Вахнич @vakhnych.bohdan\n4. Джейхун Сафаров @dzheikhun.s\n5. Данил Повар @povardanil \nДе: Міський будинок культури\nАдреса: Рівне\, Соборна 3д\nКоли: 19/05 20:00 \nПідписуйтесь на @brod.stand_up\, щоб знати про всі наші заходи заздалегідь. #brodstandup\n18 плюс\nЧастина від зібраних грошей піде на ЗСУ \n  \n\n\nКВИТКИ: \n– в касі МБК \n– на сайті https://rivne.karabas.com/ua/velikij-stendap-koncert-43 \n\n\n☎️ 066 171 3456 \n
URL:https://mbk.rv.ua/event/%d0%b2%d0%b5%d0%bb%d0%b8%d0%ba%d0%b8%d0%b9-%d1%81%d1%82%d0%b5%d0%bd%d0%b4%d0%b0%d0%bf-%d0%ba%d0%be%d0%bd%d1%86%d0%b5%d1%80%d1%82-2/
CATEGORIES:стендап
END:VEVENT
END:VCALENDAR