BEGIN:VCALENDAR
VERSION:2.0
PRODID:-//МБК - ECPv4.6.16//NONSGML v1.0//EN
CALSCALE:GREGORIAN
METHOD:PUBLISH
X-WR-CALNAME:МБК
X-ORIGINAL-URL:https://mbk.rv.ua
X-WR-CALDESC:Events for МБК
BEGIN:VEVENT
DTSTART;TZID=Europe/Kyiv:20250326T190000
DTEND;TZID=Europe/Kyiv:20250326T210000
DTSTAMP:20260419T144822
CREATED:20250312T090550Z
LAST-MODIFIED:20250312T090550Z
UID:11254-1743015600-1743022800@mbk.rv.ua
SUMMARY:Співачка KOLA в МБК
DESCRIPTION:\n26 березня 2025 року\n19:00\nГлядацька зала\n\nМузика\, любов та підтримка: співачка KOLA вирушає в тур містами України! \nЗ 18 березня співачка KOLA вирушає у всеукраїнський тур. Кожен концерт обіцяє стати особливою історією про музику\, натхнення та емоції\, які об’єднають шанувальників у кожному місті. \nВсі\, хто не потрапив на великий сольний концерт\, мають нагоду у своєму місті влаштувати незабутній вечір\, на якому мелодії зустрінуться з серцем кожного. Артистка представить свою особливу програму з головних хітів у новому аранжуванні\, таких як «Чи разом?»\, «Дочекаюсь»\, «Біля серця» та інші. А також порадує гостей іншими популярними піснями\, слова яких більшість знає напам’ять. \nСьогодні музика KOLA стала надійною емоційною підтримкою для багатьох слухачів. Її пісні про кохання\, надію та мрії пробуджують у серцях людей почуття\, які стають опорою у непрості часи. Тому кожен концерт співачки – це можливість не лише насолодитися чудовою музикою\, але й згадати безтурботні часи\, відчути тепло та близькість до людей\, які розділяють ці миті з вами. \nЗокрема всі виступи KOLA мають важливу соціальну місію – однією з головних цілей туру є допомога Збройним силам України. Тож не пропустіть можливість стати частиною свята чуттєвості від KOLA\, дайте собі шанс поринути в атмосферу музики\, любові та єдності\, які надихають нас у ці непрості часи. \n\n\nКВИТКИ: \n– в касі МБК \n– на сайті https://concert.ua/uk/event/kola-rivne \nДовідки за телефоном: \n\n\n☎️ 066 171 3456  \n
URL:https://mbk.rv.ua/event/%d1%81%d0%bf%d1%96%d0%b2%d0%b0%d1%87%d0%ba%d0%b0-kola-%d0%b2-%d0%bc%d0%b1%d0%ba/
CATEGORIES:Концерти
END:VEVENT
END:VCALENDAR