BEGIN:VCALENDAR
VERSION:2.0
PRODID:-//МБК - ECPv4.6.16//NONSGML v1.0//EN
CALSCALE:GREGORIAN
METHOD:PUBLISH
X-WR-CALNAME:МБК
X-ORIGINAL-URL:https://mbk.rv.ua
X-WR-CALDESC:Events for МБК
BEGIN:VEVENT
DTSTART;TZID=Europe/Kyiv:20250302T190000
DTEND;TZID=Europe/Kyiv:20250302T210000
DTSTAMP:20260423T120300
CREATED:20250129T101930Z
LAST-MODIFIED:20250129T101930Z
UID:11103-1740942000-1740949200@mbk.rv.ua
SUMMARY:АННА ТРІНЧЕР
DESCRIPTION:\n2 березня 2025 року\n19:00\nГлядацька зала\n\nНе пропустіть шанс побачити улюблені хіти наживо й стати частиною музичної історії разом із Анною Трінчер!  \n\n\nКВИТКИ: \n– в касі МБК \n– на сайті https://concert.ua/uk/event/anna-trincher-rivne \nДовідки за телефоном: \n\n\n☎️ 066 171 3456  \n
URL:https://mbk.rv.ua/event/%d0%b0%d0%bd%d0%bd%d0%b0-%d1%82%d1%80%d1%96%d0%bd%d1%87%d0%b5%d1%80/
CATEGORIES:Концерти
END:VEVENT
END:VCALENDAR