BEGIN:VCALENDAR
VERSION:2.0
PRODID:-//МБК - ECPv4.6.16//NONSGML v1.0//EN
CALSCALE:GREGORIAN
METHOD:PUBLISH
X-WR-CALNAME:МБК
X-ORIGINAL-URL:https://mbk.rv.ua
X-WR-CALDESC:Events for МБК
BEGIN:VEVENT
DTSTART;TZID=Europe/Kyiv:20250301T180000
DTEND;TZID=Europe/Kyiv:20250301T200000
DTSTAMP:20260423T115741
CREATED:20250108T095241Z
LAST-MODIFIED:20250302T124724Z
UID:11027-1740852000-1740859200@mbk.rv.ua
SUMMARY:Концерт Сергія Асафатова
DESCRIPTION:\n1 березня 2025 року\n18:00\nГлядацька зала\n\nПочувши його один раз – запам’ятаєш назавжди. Унікальний голос\, слова та музика\, що не може не знаходити свого слухача\, тому з кожним днем їх стає все більше і більше. Сергій Асафатов – талановитий співак та мультиінструменталіст\, людина чия життєва історія дивує та надихає. \n\n\nКВИТКИ: \n– в касі МБК \n– на сайті https://rivne.karabas.com/serhiy-asafatov-3/ \nДовідки за телефоном: \n\n\n☎️ 066 171 3456  \n
URL:https://mbk.rv.ua/event/%d0%ba%d0%be%d0%bd%d1%86%d0%b5%d1%80%d1%82-%d1%81%d0%b5%d1%80%d0%b3%d1%96%d1%8f-%d0%b0%d1%81%d0%b0%d1%84%d0%b0%d1%82%d0%be%d0%b2%d0%b0-2/
CATEGORIES:Концерти
END:VEVENT
END:VCALENDAR