BEGIN:VCALENDAR
VERSION:2.0
PRODID:-//МБК - ECPv4.6.16//NONSGML v1.0//EN
CALSCALE:GREGORIAN
METHOD:PUBLISH
X-WR-CALNAME:МБК
X-ORIGINAL-URL:https://mbk.rv.ua
X-WR-CALDESC:Events for МБК
BEGIN:VEVENT
DTSTART;TZID=Europe/Kyiv:20250209T170000
DTEND;TZID=Europe/Kyiv:20250209T190000
DTSTAMP:20260423T134023
CREATED:20250129T101033Z
LAST-MODIFIED:20250129T101033Z
UID:11101-1739120400-1739127600@mbk.rv.ua
SUMMARY:Роман Скорпіон
DESCRIPTION:\n9 лютого 2025 року\n17:00\nГлядацька зала\n\nРоман Скорпіон – співак\, чиї пісні співають всі і всюди\, а такі треки\, як «Закохався»\, «Поцілую» \, «Обійму»\, вже давно стали народними. \n\n\nКВИТКИ: \n– в касі МБК \n– на сайті https://rivne.karabas.com/roman-skorpion-137/ \nДовідки за телефоном: \n\n\n☎️ 066 171 3456  \n
URL:https://mbk.rv.ua/event/%d1%80%d0%be%d0%bc%d0%b0%d0%bd-%d1%81%d0%ba%d0%be%d1%80%d0%bf%d1%96%d0%be%d0%bd-2/
CATEGORIES:Концерти
END:VEVENT
END:VCALENDAR