BEGIN:VCALENDAR
VERSION:2.0
PRODID:-//МБК - ECPv4.6.16//NONSGML v1.0//EN
CALSCALE:GREGORIAN
METHOD:PUBLISH
X-WR-CALNAME:МБК
X-ORIGINAL-URL:https://mbk.rv.ua
X-WR-CALDESC:Events for МБК
BEGIN:VEVENT
DTSTART;TZID=Europe/Kyiv:20241103T190000
DTEND;TZID=Europe/Kyiv:20241103T210000
DTSTAMP:20260423T204202
CREATED:20241010T091521Z
LAST-MODIFIED:20241010T091521Z
UID:10576-1730660400-1730667600@mbk.rv.ua
SUMMARY:Ірина Федишин. Великий сольний концерт.
DESCRIPTION:\n3 листопада 2024 року\n19:00\nГлядацька зала\n\n  \nІрина Федишин.\nВеликий сольний концерт.\nПремʼєри та улюблені пісні – спеціальна програма для позитивного емоційного стану. Будуть ті пісні\, які надихають жити\, любити і працювати на перемогу. Не пропустіть вечір\, який буде наповнений яскравими емоціями \n\n\n  \nКВИТКИ: \n– в касі МБК \n– на сайті https://rivne.karabas.com/iryna-fedyshyn-7/ \nДовідки за телефоном:\n\n\n☎️ 066 171 3456  \n
URL:https://mbk.rv.ua/event/%d1%96%d1%80%d0%b8%d0%bd%d0%b0-%d1%84%d0%b5%d0%b4%d0%b8%d1%88%d0%b8%d0%bd-%d0%b2%d0%b5%d0%bb%d0%b8%d0%ba%d0%b8%d0%b9-%d1%81%d0%be%d0%bb%d1%8c%d0%bd%d0%b8%d0%b9-%d0%ba%d0%be%d0%bd%d1%86%d0%b5%d1%80/
CATEGORIES:Концерти
END:VEVENT
END:VCALENDAR