BEGIN:VCALENDAR
VERSION:2.0
PRODID:-//МБК - ECPv4.6.16//NONSGML v1.0//EN
CALSCALE:GREGORIAN
METHOD:PUBLISH
X-WR-CALNAME:МБК
X-ORIGINAL-URL:https://mbk.rv.ua
X-WR-CALDESC:Events for МБК
BEGIN:VEVENT
DTSTART;TZID=Europe/Kyiv:20241102T190000
DTEND;TZID=Europe/Kyiv:20241102T210000
DTSTAMP:20260423T184814
CREATED:20240813T084759Z
LAST-MODIFIED:20240829T140732Z
UID:10393-1730574000-1730581200@mbk.rv.ua
SUMMARY:Іво Бобул та Лілія Сандулеса. «Берег любові крізь роки»
DESCRIPTION:\n2 листопада 2024 року\n19:00\nГлядацька зала\n\nУкраїнська співачка – Jerry Heil\, авторка пісень та музики\, представниця України на Євробаченні 2024. \nJerry Heil\, яка здобула популярність завдяки своєму неповторному музичному стилю\, поєднанню поп-музики з українським фольклором та запальними ритмами\, стала одним з найяскравіших імен в сучасній українській музиці. \nЇї хіти підкорюють серця слухачів по всьому світу\, і тепер шанувальники зможуть почути їх наживо. \n«Концерти — один з кращих аспектів життя артиста\, як на мене. Репетиції\, саундчеки\, хвилювання перед виходом\, сотні або тисячі людей співають в унісон\, фото після концерту\, потім солодке відчуття виснаження після і перегляд ваших відміток в сторі з концерту.. як же я обожнюю це! \nТільки на сцені можна відчути\, наскільки сильно і як саме людям резонує твоя творчість. Вважаю себе дуже щасливою\, що вдалося зібрати своєю творчістю навколо себе таких світлих глядачів\, слухачів\, найкращих людей! \nЧекаю на вас!» – Jerry Heil. \n  \n\n\nКВИТКИ: \n– в касі МБК \n– на сайті https://rivne.karabas.com/ua/ivo-bobul-ta-liliya-sandulesa-5/ \nДовідки за телефоном:\n\n\n☎️ 066 171 3456  \n
URL:https://mbk.rv.ua/event/%d1%96%d0%b2%d0%be-%d0%b1%d0%be%d0%b1%d1%83%d0%bb-%d1%82%d0%b0-%d0%bb%d1%96%d0%bb%d1%96%d1%8f-%d1%81%d0%b0%d0%bd%d0%b4%d1%83%d0%bb%d0%b5%d1%81%d0%b0-%d0%b1%d0%b5%d1%80%d0%b5%d0%b3-%d0%bb%d1%8e/
CATEGORIES:Концерти
END:VEVENT
END:VCALENDAR