BEGIN:VCALENDAR
VERSION:2.0
PRODID:-//МБК - ECPv4.6.16//NONSGML v1.0//EN
CALSCALE:GREGORIAN
METHOD:PUBLISH
X-WR-CALNAME:МБК
X-ORIGINAL-URL:https://mbk.rv.ua
X-WR-CALDESC:Events for МБК
BEGIN:VEVENT
DTSTART;TZID=Europe/Kyiv:20241027T160000
DTEND;TZID=Europe/Kyiv:20241027T180000
DTSTAMP:20260423T204102
CREATED:20241010T091233Z
LAST-MODIFIED:20241010T091233Z
UID:10574-1730044800-1730052000@mbk.rv.ua
SUMMARY:Концерт "Так звучить Україна"
DESCRIPTION:\n27 жовтня 2024 року\n16:00\nГлядацька зала\n\n\nЗапрошуємо рівнян та гостей міста на унікальний культурно-просвітницький соціальний проєкт «Так звучить Україна». У вечорі звучатимуть пісні\, які були написані у різні роки\, різні епохи та лунали з уст різних поколінь. Впродовж концерту глядачу буде розказано про унікальність створення кожної пісні. Ви почуєте саме ті твори\, які знають не лише українці\, а які є відомими на увесь світ.На сцені виступатимуть відомі рівненські артисти та колективи\, що передадуть всю силу та красу нашої культури через музику. Виключно живе виконання у супроводі оркестру «Наспів»\, спів а капела від камерного хору «Лукаш»\, дзвін бандури від тріо «Любисток» та багатьох інших… про кого розповімо згодом!Мелодії\, що пробуджують спогади та композиції\, які надихають на нові звершення\, — кожен знайде щось своє у звучанні України.Вхід вільний. Кожен бажаючий має можливість задонатити на ЗСУ!\n\n\n\nВхід вільний\n\n\n\n☎️ 066 171 3456  \n
URL:https://mbk.rv.ua/event/%d0%ba%d0%be%d0%bd%d1%86%d0%b5%d1%80%d1%82-%d1%82%d0%b0%d0%ba-%d0%b7%d0%b2%d1%83%d1%87%d0%b8%d1%82%d1%8c-%d1%83%d0%ba%d1%80%d0%b0%d1%97%d0%bd%d0%b0/
CATEGORIES:Концерти
END:VEVENT
END:VCALENDAR