BEGIN:VCALENDAR
VERSION:2.0
PRODID:-//МБК - ECPv4.6.16//NONSGML v1.0//EN
CALSCALE:GREGORIAN
METHOD:PUBLISH
X-WR-CALNAME:МБК
X-ORIGINAL-URL:https://mbk.rv.ua
X-WR-CALDESC:Events for МБК
BEGIN:VEVENT
DTSTART;TZID=Europe/Kyiv:20241023T190000
DTEND;TZID=Europe/Kyiv:20241023T210000
DTSTAMP:20260423T204056
CREATED:20241010T090911Z
LAST-MODIFIED:20241010T090911Z
UID:10571-1729710000-1729717200@mbk.rv.ua
SUMMARY:МУЗИКА ПРИ СВІЧКАХ: ЛЮДОВІКО ЕЙНАУДІ ТА ЯН ТІРСЕН
DESCRIPTION:\n23 жовтня 2024 року\n19:00\nГлядацька зала\n\n\n\n\n\n\n\n\n\nВи зануритесь у світ чарівних композицій Людовіко Ейнауді та Яна Тірсена. \nЦей вечір буде прикрашений магічним світлом сотень свічок\, що створить унікальну атмосферу для насолоди кожною нотою. \nЗ нетерпінням чекаємо вас на цьому неповторному заході\, де музика\, світло і емоції зіллються в одне ціле. \nЗа роялем Alex Pian.\nКомпозитор та піаніст\, який грав під сиренами на львівському вокзалі\, про нього писали світові медіа\, а Ганс Циммер на своєму концерті в Лондоні показав відео\, як Олексій виконує його композицію «Time». \n\n\n\nКОРИСНА ІНФОРМАЦІЯ ОРГАНІЗАТОРА \n\n Дітям безкоштовно до 10 років без надання окремого місця\n  \n\n\n\n\n\n\n\n\n\n– в касі МБК \n– на сайті https://concert.ua/uk/event/muzika-pri-svichkah-rivne \nДовідки за телефоном: \n\n\n☎️ 066 171 3456  \n
URL:https://mbk.rv.ua/event/%d0%bc%d1%83%d0%b7%d0%b8%d0%ba%d0%b0-%d0%bf%d1%80%d0%b8-%d1%81%d0%b2%d1%96%d1%87%d0%ba%d0%b0%d1%85-%d0%bb%d1%8e%d0%b4%d0%be%d0%b2%d1%96%d0%ba%d0%be-%d0%b5%d0%b9%d0%bd%d0%b0%d1%83%d0%b4%d1%96-%d1%82/
CATEGORIES:Концерти
END:VEVENT
END:VCALENDAR