BEGIN:VCALENDAR
VERSION:2.0
PRODID:-//МБК - ECPv4.6.16//NONSGML v1.0//EN
CALSCALE:GREGORIAN
METHOD:PUBLISH
X-WR-CALNAME:МБК
X-ORIGINAL-URL:https://mbk.rv.ua
X-WR-CALDESC:Events for МБК
BEGIN:VEVENT
DTSTART;TZID=Europe/Kyiv:20241016T190000
DTEND;TZID=Europe/Kyiv:20241016T210000
DTSTAMP:20260423T202538
CREATED:20240403T110751Z
LAST-MODIFIED:20240617T124350Z
UID:10052-1729105200-1729112400@mbk.rv.ua
SUMMARY:SHUMEI
DESCRIPTION:\n16 жовтня 2024 року\n19:00\nГлядацька зала\n\nSHUMEI їде у великий тур Україною! \nСпеціальна програма! \nSHUMEI – харизматичний співак\, чий голос знайомий серцю кожного українця. Його пісні та кавери від початку повномасштабного вторгнення передають усе\, що відчувають мільйони. \nІ вже зовсім скоро Ви матимете змогу почути їх наживо. \nДля вас звучатимуть улюблені «Пробач»\, «Комета»\, «Родимка»\, «Волосся»\, «Буревіями»\, «Капають»\, «Тривога» та інші хіти. \n«Я народився для музики»\,- каже SHUMEI. \nКожен виступ співака – це потужний вокал\, шалена енергія та незабутні враження. \nПодаруйте собі світлі емоції\, які так важливі сьогодні. \nІ не забувайте – кожен квиток це допомога нашим Збройним силам\, які роблять можливим цей вечір! \nВсе буде – Україна! \n  \n\n\nКВИТКИ: \n– в касі МБК \n– на сайті https://rivne.karabas.com/ua/shumei-45 \nДовідки за телефоном:\n\n\n☎️ 066 171 3456  \n
URL:https://mbk.rv.ua/event/shumei-%d0%b2-%d1%80%d1%96%d0%b2%d0%bd%d0%be%d0%bc%d1%83/
CATEGORIES:Концерти
END:VEVENT
END:VCALENDAR