BEGIN:VCALENDAR
VERSION:2.0
PRODID:-//МБК - ECPv4.6.16//NONSGML v1.0//EN
CALSCALE:GREGORIAN
METHOD:PUBLISH
X-WR-CALNAME:МБК
X-ORIGINAL-URL:https://mbk.rv.ua
X-WR-CALDESC:Events for МБК
BEGIN:VEVENT
DTSTART;TZID=Europe/Kyiv:20240519T120000
DTEND;TZID=Europe/Kyiv:20240519T140000
DTSTAMP:20260425T155845
CREATED:20240514T093442Z
LAST-MODIFIED:20240514T093442Z
UID:10197-1716120000-1716127200@mbk.rv.ua
SUMMARY:Концерт естрадного хору “Кольорові ноти” / “Життя триває”
DESCRIPTION:\n19 травня 2024 року\n12:00\nГлядацька зала\n\n\nЗразковий естрадний хор “Кольорові ноти” запрошує усіх на благодійний концерт “Життя триває”.\n\n\nКожен наш день – це нова пригода.\nКожна посмішка – дорогоцінний подарунок!\nЩирі емоції – натхнення\, а кожна пісня дарує свій ритм та розуміння того \, що життя\, попри усе\, – триває !\nКерівниця Світлана Малько\nКонцертмейстерка Леся Бушинська\nМета заходу – збір коштів для ЗСУ!\n\n  \n\n\nВхід за запрошеннями. \n\n\n☎️ 066 171 3456 \n
URL:https://mbk.rv.ua/event/%d0%ba%d0%be%d0%bd%d1%86%d0%b5%d1%80%d1%82-%d0%b5%d1%81%d1%82%d1%80%d0%b0%d0%b4%d0%bd%d0%be%d0%b3%d0%be-%d1%85%d0%be%d1%80%d1%83-%d0%ba%d0%be%d0%bb%d1%8c%d0%be%d1%80%d0%be%d0%b2%d1%96-%d0%bd-2/
CATEGORIES:Концерти
END:VEVENT
END:VCALENDAR