BEGIN:VCALENDAR
VERSION:2.0
PRODID:-//МБК - ECPv4.6.16//NONSGML v1.0//EN
CALSCALE:GREGORIAN
METHOD:PUBLISH
X-WR-CALNAME:МБК
X-ORIGINAL-URL:https://mbk.rv.ua
X-WR-CALDESC:Events for МБК
BEGIN:VEVENT
DTSTART;TZID=Europe/Kyiv:20250327T180000
DTEND;TZID=Europe/Kyiv:20250327T200000
DTSTAMP:20260421T160137
CREATED:20250224T122837Z
LAST-MODIFIED:20250224T122837Z
UID:11180-1743098400-1743105600@mbk.rv.ua
SUMMARY:Вистава "Мужики не танцюють стриптиз"
DESCRIPTION:\n27 березня 2025 року\n18:00\nГлядацька зала\n\nВони: офіцер спецназу\, бандит\, музикант і збанкрутілий бізнесмен. Кожен з них гідний кращого\, але життя склалося так\, як склалося.У кожного своя доля\, своя трагедія. У них немає роботи\, немає грошей. \nЄдина їх надія – елітне чоловіче стриптиз-шоу\, в яке ще треба потрапити. Ніхто з них раніше нічим подібним не займався\, їм страшно і смішно одночасно\, але це їхній останній шанс – отримати можливість заробляти хороші гроші\, а заразом довести оточенню і самим собі\, що нічого неможливого немає\, головне – сильно захотіти! \nПоки четверо закомплексованих мужиків\, навчаться більш менш правильно рухатися і при цьому скидати одяг\, зал задихнеться від сміху. \nСидячи в залі для глядачів\, ми сміємося і щиро переживаємо за наших героїв\, і з кожною хвилиною стаємо все ближче і ближче до розв’язки подій. Фінал цієї незвичайної історії – феєричне шоу\, що несе заряд емоцій\, загострення пристрастей і божевільну любов до неї\, до жінки\, а жінці дуже корисно вдосталь\, до сліз\, до кольок посміятися. Навіть\, напевно\, корисніше\, ніж подивитися на голого мужика. \n\n\nКВИТКИ: \n– в касі МБК \n– на сайті Karabas.com \nДовідки за телефоном: \n\n\n☎️ 066 171 3456  \n
URL:https://mbk.rv.ua/event/%d0%b2%d0%b8%d1%81%d1%82%d0%b0%d0%b2%d0%b0-%d0%bc%d1%83%d0%b6%d0%b8%d0%ba%d0%b8-%d0%bd%d0%b5-%d1%82%d0%b0%d0%bd%d1%86%d1%8e%d1%8e%d1%82%d1%8c-%d1%81%d1%82%d1%80%d0%b8%d0%bf%d1%82%d0%b8%d0%b7/
CATEGORIES:Вистави
END:VEVENT
END:VCALENDAR