BEGIN:VCALENDAR
VERSION:2.0
PRODID:-//МБК - ECPv4.6.16//NONSGML v1.0//EN
CALSCALE:GREGORIAN
METHOD:PUBLISH
X-WR-CALNAME:МБК
X-ORIGINAL-URL:https://mbk.rv.ua
X-WR-CALDESC:Events for МБК
BEGIN:VEVENT
DTSTART;TZID=Europe/Kyiv:20250304T190000
DTEND;TZID=Europe/Kyiv:20250304T210000
DTSTAMP:20260421T160900
CREATED:20250129T102913Z
LAST-MODIFIED:20250129T103134Z
UID:11105-1741114800-1741122000@mbk.rv.ua
SUMMARY:Вистава «Наші КАЙДАШІ»
DESCRIPTION:\n4 березня 2025 року\n19:00\nГлядацька зала \n«Наші КАЙДАШІ»\nЗірковий склад історії\, яку ми усі любимо і знаємо\nТАРАС ЦИМБАЛЮК – актор кіно: «Спіймати Кайдаша»\, “Зв’язок”\, “Чорний ворон”\nНАТАЛКА ДЕНИСЕНКО – акторка серіалів: «Кріпосна»\, «Папаньки»\, «Дівчата»\nОЛЬГА СУМСЬКА – Народна артистка України\nВОЛОДИМИР ГОРЯНСЬКИЙ – Народний артист України.\nБОГДАН ОСАДЧУК – зірка серіалу «школа»\nОЛЕНА СВІТЛИЦЬКА– акторка серіалів: «Кохана вчителька»\, «Формула щастя»\, «Мавки»\nТАЇСІЯ ХВОСТОВА – акторка серіалів: “Жіночій лікар”\, “Мавка: Лісова пісня”Наші Кайдаші спіймали Любов! Не пропустіть можливість побачити Кайдашів у сучасній і неймовірній пригоді\, яка така близька кожному українцю. Адже вона про нас. Про усіх нас. Справжній майстер клас з театрального мистецтва та Життя…Нашого Життя…\nЗ усмішкою\, нашим гумором і Великим Коханням!\nКупуй квитки\, поки вони є!Продюсер – Олійник Є. І.\nРежисер\, автор – Олійник Є. В. \nВікова категорія: 18 плюс\n\n\n\n  \nКВИТКИ: \n– в касі МБК \n– на сайті https://rivne.karabas.com/nashi-kaydashi-rivne/ \nДовідки за телефоном: \n\n\n☎️ 066 171 3456  \n
URL:https://mbk.rv.ua/event/%d0%b2%d0%b8%d1%81%d1%82%d0%b0%d0%b2%d0%b0-%d0%bd%d0%b0%d1%88%d1%96-%d0%ba%d0%b0%d0%b9%d0%b4%d0%b0%d1%88%d1%96-3/
CATEGORIES:Вистави
END:VEVENT
END:VCALENDAR