BEGIN:VCALENDAR
VERSION:2.0
PRODID:-//МБК - ECPv4.6.16//NONSGML v1.0//EN
CALSCALE:GREGORIAN
METHOD:PUBLISH
X-WR-CALNAME:МБК
X-ORIGINAL-URL:https://mbk.rv.ua
X-WR-CALDESC:Events for МБК
BEGIN:VEVENT
DTSTART;TZID=Europe/Kyiv:20250214T190000
DTEND;TZID=Europe/Kyiv:20250214T190000
DTSTAMP:20260421T175703
CREATED:20250121T091709Z
LAST-MODIFIED:20250121T091709Z
UID:11066-1739559600-1739559600@mbk.rv.ua
SUMMARY:Вистава “Основний інстинкт”
DESCRIPTION:\n14 лютого 2025 року\n19:00\nГлядацька зала\n\nЗірковий склад акторів у неймовірній історії Кохання! \nТАРАС ЦИМБАЛЮК – актор серіалів: “Спіймати Кайдаша”\, “Чорний Ворон”\, “Кріпосна”.\nОЛЬГА СУМСЬКА – народна артистка України \nНАТАЛКА ДЕНИСЕНКО – акторка серіалів: “Кріпосна”\, “Папаньки”\, “Дівчата” \nВОЛОДИМИР ГОРЯНСЬКИЙ – Народний артист України. \nОЛЕНА СВІТЛИЦЬКА – акторка серіалів: «Кохана вчителька»\, «Формула щастя»\, «Мавки» \nТИМУР АСЛАНОВ – актор фільму “Черкаси” та інші. \nОдна з найпопулярніших і грандіозних подій країни\, що збирає повні зали глядачів і не залишить вас байдужими! Справжній майстер клас з театрального мистецтва\, Пристрасті та великого Кохання! \nНевиправний ловелас\, просочений тестостероном\, запахом віскі та адреналіном швидкостей\, опиниться в місці\, якого немає на жодній карті світу\, в готелі без назви\, двері якого відчиняються лише обраним…А ім’я господині вимовляють пошепки…Подивися в її очі і ти побачиш манливу безодню\, вкриту найзабороненішими бажаннями та таємницями…Чи зможе той\, хто все життя розбивав жіночі серця\, зберегти своє власне? \nМи починаємо! \nПродюсер: ЄВГЕН ОЛІЙНИК \nРежисер: Сергій Санін \nВікова категорія: 18 плюс \n\n\nКВИТКИ: \n– в касі МБК \n– на сайті https://rivne.karabas.com/osnovnyy-instynkt-23/ \nДовідки за телефоном: \n\n\n☎️ 066 171 3456  \n
URL:https://mbk.rv.ua/event/%d0%b2%d0%b8%d1%81%d1%82%d0%b0%d0%b2%d0%b0-%d0%be%d1%81%d0%bd%d0%be%d0%b2%d0%bd%d0%b8%d0%b9-%d1%96%d0%bd%d1%81%d1%82%d0%b8%d0%bd%d0%ba%d1%82-2/
CATEGORIES:Вистави
END:VEVENT
END:VCALENDAR