BEGIN:VCALENDAR
VERSION:2.0
PRODID:-//МБК - ECPv4.6.16//NONSGML v1.0//EN
CALSCALE:GREGORIAN
METHOD:PUBLISH
X-WR-CALNAME:МБК
X-ORIGINAL-URL:https://mbk.rv.ua
X-WR-CALDESC:Events for МБК
BEGIN:VEVENT
DTSTART;TZID=Europe/Kyiv:20250127T180000
DTEND;TZID=Europe/Kyiv:20250127T200000
DTSTAMP:20260421T175744
CREATED:20241224T102733Z
LAST-MODIFIED:20241224T102733Z
UID:10976-1738000800-1738008000@mbk.rv.ua
SUMMARY:Вистава “Повія”
DESCRIPTION:\n27 січня 2025 року\n18:00\nГлядацька зала\n\nДівчина Христина\, волею долі та бідності\, втративши батька та матір\, рятуючись від бридких домагань шукає притулок та роботу у великому місті. Після багатьох поневірянь зради та відчаю доля ніби насміхаючись над дівчиною надає їй шанс вижити у елітному київському кабаре.  Чергова прем’єра  MODERN THEATRE  від всесвітньо відомого режисера Дмитра Рачковського\, в якій метр виступає ще й як драматург. \n\n\nКВИТКИ: \n– в касі МБК \n– на сайті https://rivne.karabas.com/poviya-91/ \nДовідки за телефоном: \n\n\n☎️ 066 171 3456  \n
URL:https://mbk.rv.ua/event/%d0%b2%d0%b8%d1%81%d1%82%d0%b0%d0%b2%d0%b0-%d0%bf%d0%be%d0%b2%d1%96%d1%8f-2/
CATEGORIES:Вистави
END:VEVENT
END:VCALENDAR