BEGIN:VCALENDAR
VERSION:2.0
PRODID:-//МБК - ECPv4.6.16//NONSGML v1.0//EN
CALSCALE:GREGORIAN
METHOD:PUBLISH
X-WR-CALNAME:МБК
X-ORIGINAL-URL:https://mbk.rv.ua
X-WR-CALDESC:Events for МБК
BEGIN:VEVENT
DTSTART;TZID=Europe/Kyiv:20241209T170000
DTEND;TZID=Europe/Kyiv:20241209T190000
DTSTAMP:20260423T084553
CREATED:20241105T111755Z
LAST-MODIFIED:20241105T111755Z
UID:10763-1733763600-1733770800@mbk.rv.ua
SUMMARY:Дитяча вистава “У пошуках святого Миколая”
DESCRIPTION:\n9 грудня 2024 року\n17:00\nГлядацька зала\n\nНам конче потрібна ваша допомога. Річ у тім\, що святий Миколай зник. Є підозри\, що його могли викрасти. В будь-якому разі\, свята опинилися під загрозою. Всі можуть залишитися без подарунків\, якщо тільки ми разом не знайдемо cвятого Миколая. \nНоворічна мультимедійна вистава “У пошуках cвятого Миколая” не просто розповідає історію\, але й запрошує маленьких глядачів приєднатися до неї. На час вистави кожна дитина отримає чарівну паличку\, за допомогою якої може впливати на події у виставі. \n\n\nКВИТКИ: \n– в касі МБК \n– на сайті https://rivne.karabas.com/u-poshukakh-svyatoho-mykolaya-1/ \nДовідки за телефоном: \n\n\n☎️ 066 171 3456  \n
URL:https://mbk.rv.ua/event/%d0%b4%d0%b8%d1%82%d1%8f%d1%87%d0%b0-%d0%b2%d0%b8%d1%81%d1%82%d0%b0%d0%b2%d0%b0-%d1%83-%d0%bf%d0%be%d1%88%d1%83%d0%ba%d0%b0%d1%85-%d1%81%d0%b2%d1%8f%d1%82%d0%be%d0%b3%d0%be-%d0%bc%d0%b8%d0%ba/
CATEGORIES:Вистави
END:VEVENT
END:VCALENDAR