BEGIN:VCALENDAR
VERSION:2.0
PRODID:-//МБК - ECPv4.6.16//NONSGML v1.0//EN
CALSCALE:GREGORIAN
METHOD:PUBLISH
X-WR-CALNAME:МБК
X-ORIGINAL-URL:https://mbk.rv.ua
X-WR-CALDESC:Events for МБК
BEGIN:VEVENT
DTSTART;TZID=Europe/Kyiv:20241207T160000
DTEND;TZID=Europe/Kyiv:20241207T180000
DTSTAMP:20260423T085759
CREATED:20241122T092026Z
LAST-MODIFIED:20241122T092026Z
UID:10835-1733587200-1733594400@mbk.rv.ua
SUMMARY:Вистава-казка “Один вдома”
DESCRIPTION:\n7 грудня 2024 року\n16:00\nГлядацька зала\n\n  \nНоворічна пригода одного хлопчика\, який випадково залишився в святкову ніч один вдома. На нього чекають справжні пригоди з Бетменом\, людиною-павуком та грабіжниками. \nГарний настрій та море позитивних емоцій гарантовано! \n  \n\n\nКВИТКИ: \n– в касі МБК \n– на сайті https://rivne.karabas.com/odyn-vdoma-1/ \nДовідки за телефоном: \n\n\n☎️ 066 171 3456  \n
URL:https://mbk.rv.ua/event/%d0%b2%d0%b8%d1%81%d1%82%d0%b0%d0%b2%d0%b0-%d0%ba%d0%b0%d0%b7%d0%ba%d0%b0-%d0%be%d0%b4%d0%b8%d0%bd-%d0%b2%d0%b4%d0%be%d0%bc%d0%b0/
CATEGORIES:Вистави
END:VEVENT
BEGIN:VEVENT
DTSTART;TZID=Europe/Kyiv:20241207T180000
DTEND;TZID=Europe/Kyiv:20241207T193000
DTSTAMP:20260423T085759
CREATED:20241122T092156Z
LAST-MODIFIED:20241122T092156Z
UID:10837-1733594400-1733599800@mbk.rv.ua
SUMMARY:Вистава “Повія”
DESCRIPTION:\n7 грудня 2024 року\n18:00\nГлядацька зала\n\n  \nДівчина Христина\, волею долі та бідності\, втративши батька та матір\, рятуючись від бридких домагань шукає притулок та роботу у великому місті. Після багатьох поневірянь зради та відчаю доля ніби насміхаючись над дівчиною надає їй шанс вижити у елітному київському кабаре.  Чергова прем’єра  MODERN THEATRE  від всесвітньо відомого режисера Дмитра Рачковського\, в якій метр виступає ще й як драматург. \n  \n\n\nКВИТКИ: \n– в касі МБК \n– на сайті https://rivne.karabas.com/poviya-64/ \nДовідки за телефоном: \n\n\n☎️ 066 171 3456  \n
URL:https://mbk.rv.ua/event/%d0%b2%d0%b8%d1%81%d1%82%d0%b0%d0%b2%d0%b0-%d0%bf%d0%be%d0%b2%d1%96%d1%8f/
CATEGORIES:Вистави
END:VEVENT
END:VCALENDAR