BEGIN:VCALENDAR
VERSION:2.0
PRODID:-//МБК - ECPv4.6.16//NONSGML v1.0//EN
CALSCALE:GREGORIAN
METHOD:PUBLISH
X-WR-CALNAME:МБК
X-ORIGINAL-URL:https://mbk.rv.ua
X-WR-CALDESC:Events for МБК
BEGIN:VEVENT
DTSTART;TZID=Europe/Kyiv:20241127T180000
DTEND;TZID=Europe/Kyiv:20241127T200000
DTSTAMP:20260423T085856
CREATED:20241015T121816Z
LAST-MODIFIED:20241015T121816Z
UID:10625-1732730400-1732737600@mbk.rv.ua
SUMMARY:«Не ходіть дівчата заміж\, або шалений дівич-вечір»
DESCRIPTION:\n27 листопада 2024 року\n18:00\nГлядацька зала\n\n\n\nП’ять найкращих шкільних подруг\, через 15 років знову зустрічаються. У кожної з них своє життя: кар’єра\, сім’я\, обов’язки. Приводом для довгоочікуваної зустрічі стає весілля однієї з подруг. І\, як годиться перед таким важливим днем\, на них чекає дівич-вечір — з усіма його традиційними елементами: танці\, алкоголь\, стриптизери. Проте те\, що здавалося невинною забавою\, швидко перетворюється на непередбачуване випробування\, і жодна з них не здогадується\, чим закінчиться ця ніч. \nЦе історія про дружбу\, спогади і несподівані повороти долі. \nПрощальний шедевр від метра світової режисури Дмитра Рачковського після якої він завершує свою діяльність на теренах України…. \n  \n\n\n\n\nКВИТКИ:  \n– на сайті https://rivne.karabas.com/ne-khodit-divchata-zamizh-abo-shalenyy-divych-vechir-17/ \n\n\n☎️ 066 171 3456  \n
URL:https://mbk.rv.ua/event/%d0%bd%d0%b5-%d1%85%d0%be%d0%b4%d1%96%d1%82%d1%8c-%d0%b4%d1%96%d0%b2%d1%87%d0%b0%d1%82%d0%b0-%d0%b7%d0%b0%d0%bc%d1%96%d0%b6-%d0%b0%d0%b1%d0%be-%d1%88%d0%b0%d0%bb%d0%b5%d0%bd%d0%b8%d0%b9-%d0%b4/
CATEGORIES:Вистави
END:VEVENT
END:VCALENDAR