BEGIN:VCALENDAR
VERSION:2.0
PRODID:-//МБК - ECPv4.6.16//NONSGML v1.0//EN
CALSCALE:GREGORIAN
METHOD:PUBLISH
X-WR-CALNAME:МБК
X-ORIGINAL-URL:https://mbk.rv.ua
X-WR-CALDESC:Events for МБК
BEGIN:VEVENT
DTSTART;TZID=Europe/Kyiv:20241108T180000
DTEND;TZID=Europe/Kyiv:20241108T200000
DTSTAMP:20260423T102538
CREATED:20241015T120407Z
LAST-MODIFIED:20241015T120407Z
UID:10612-1731088800-1731096000@mbk.rv.ua
SUMMARY:Вистава “Катерина”
DESCRIPTION:\n8 листопада 2024 року\n18:00\nГлядацька зала\n\nКохайтеся\, чорнобриві\, та не з москалями….\nВона покохала… Покохала усім своїм дівочим серцем… Покохала так\, що забула і матір і батька і все навкруги. І все одно\, що скажуть люде! Тільки він\, тільки Іван… Та й що\, що москаль? Не має кохання Катрусі ні перепон\, ні кордонів! І понесла від нього\, стала покриткою\, ганьбою вкрила і себе і своє дитя\, бо пішов Іван на війну та й забув про неї… Відрікся і від Катрі і від дитини… Та оженився на іншій. Темні води вкрили долю нещасної\, а дитя… Ой\, дитя\, що з тобою буде в тому жахливому світі…. Народилося ти байстрючам\, сиротою помреш…\nБезсмертна драма за мотивами поеми Тараса Григоровича Шевченко «Катерина» у постановці Ukraine Modern Theatre. Чергова прем’єра вистави театру за класичними українськими літературними творами . Ми чекаємо на нашого глядача! Скоро\, вже з жовтня слідкуйте за афішами! \n  \n\n\nКВИТКИ:  \n– на сайті https://rivne.karabas.com/kateryna-16/ \n\n\n☎️ 066 171 3456  \n
URL:https://mbk.rv.ua/event/%d0%b2%d0%b8%d1%81%d1%82%d0%b0%d0%b2%d0%b0-%d0%ba%d0%b0%d1%82%d0%b5%d1%80%d0%b8%d0%bd%d0%b0/
CATEGORIES:Вистави
END:VEVENT
END:VCALENDAR