BEGIN:VCALENDAR
VERSION:2.0
PRODID:-//МБК - ECPv4.6.16//NONSGML v1.0//EN
CALSCALE:GREGORIAN
METHOD:PUBLISH
X-WR-CALNAME:МБК
X-ORIGINAL-URL:https://mbk.rv.ua
X-WR-CALDESC:Events for МБК
BEGIN:VEVENT
DTSTART;TZID=Europe/Kyiv:20241024T190000
DTEND;TZID=Europe/Kyiv:20241024T210000
DTSTAMP:20260423T121018
CREATED:20240221T121928Z
LAST-MODIFIED:20240905T085209Z
UID:9877-1729796400-1729803600@mbk.rv.ua
SUMMARY:Вистава «Експеримент або симфонія спокуси»
DESCRIPTION:\n24 жовтня 2024 року\n19:00\nГлядацька зала\n\nПікантна\, феєрична\, комедія “Експеримент або Симфонія спокуси». Весела\, гумористична\, лірична історія одного святкового вечора\, в котру потрапили зовсім різні 3 пари. Сюжет вистави заснований на реальній життєвій події. Сімейні стосунки Едуарда і Анастасії переживають кризові моменти і заходять у глухий кут. Задля збереження шлюбу\, чоловік і дружина вирішують піти на експеримент\, щоб внести родзинку у своє *інтимне життя. Вони запрошують пару досвідчених експертів-практикантів для цієї пікантної справи. Іншими словами\, “вирішили спробувати”. Але випадково до них потрапляє інша пара\, із зовсім іншими намірами та цілями\, “не з цієї опери”. І тут починається найсмішніше і “найсмачніше”\, свідками чого станете і ви\, відвідавши комедійну виставу від театральної спільноти “N”. \nПроведіть незабутній вечір у компанії талановитих акторів. Не пропустіть можливість взяти участь в театральному експерименті та отримати неперевершені враження! \nУ ролях: \nНародний артист України – Володимир Ніколаєнко.\nНародний артист України – Лев Сомов.\nЗаслужена артистка України – Ірина Новак.\nЗаслужений артист України – Дмитро Оскін. \nАктори театру та кіно: \nІнна Приходько.\nКатерина Вишня.\nЄвгенія М’якенька.\nАнтон Вахліовський. \nРежисер: Заслужений артист України – Ілля Ноябрьов. \n  \n\n\nКВИТКИ: \n– в касі МБК \n– на сайті Karabas.com \nДовідки за телефоном:\n\n\n☎️ 066 171 3456  \n
URL:https://mbk.rv.ua/event/%d0%b2%d0%b8%d1%81%d1%82%d0%b0%d0%b2%d0%b0-%d0%b5%d0%ba%d1%81%d0%bf%d0%b5%d1%80%d0%b8%d0%bc%d0%b5%d0%bd%d1%82-%d0%b0%d0%b1%d0%be-%d1%81%d0%b8%d0%bc%d1%84%d0%be%d0%bd%d1%96%d1%8f-%d1%81%d0%bf/
CATEGORIES:Вистави
END:VEVENT
END:VCALENDAR