BEGIN:VCALENDAR
VERSION:2.0
PRODID:-//МБК - ECPv4.6.16//NONSGML v1.0//EN
CALSCALE:GREGORIAN
METHOD:PUBLISH
X-WR-CALNAME:МБК
X-ORIGINAL-URL:https://mbk.rv.ua
X-WR-CALDESC:Events for МБК
BEGIN:VEVENT
DTSTART;TZID=Europe/Kyiv:20240816T180000
DTEND;TZID=Europe/Kyiv:20240816T200000
DTSTAMP:20260423T153316
CREATED:20240617T131131Z
LAST-MODIFIED:20240617T131942Z
UID:10285-1723831200-1723838400@mbk.rv.ua
SUMMARY:Вистава "Вій"
DESCRIPTION:\n16 серпня 2024 року\n18:00\nГлядацька зала\n\n  \nНайважче у житті встояти перед спокусою. Та чи завжди покаяння позбавляє кари?…\nНаймістичніша історія про найпотаємніші та найтемніші куточки людської душі.\nНалякати сучасного глядача важко\, але… багатогранна та прониклива гра акторів\, моторошні декорації\, вражаюча постановка не залишить байдужим жодного глядача і ви не помітите\, як мороз пробігає у вас за коміром. \n  \n\n\n  \nДовідки за телефоном:\n\n\n☎️ 066 171 3456  \n
URL:https://mbk.rv.ua/event/%d0%b2%d0%b8%d1%81%d1%82%d0%b0%d0%b2%d0%b0-%d0%b2%d1%96%d0%b9-2/
CATEGORIES:Вистави
END:VEVENT
END:VCALENDAR