BEGIN:VCALENDAR
VERSION:2.0
PRODID:-//МБК - ECPv4.6.16//NONSGML v1.0//EN
CALSCALE:GREGORIAN
METHOD:PUBLISH
X-WR-CALNAME:МБК
X-ORIGINAL-URL:https://mbk.rv.ua
X-WR-CALDESC:Events for МБК
BEGIN:VEVENT
DTSTART;TZID=Europe/Kyiv:20240609T190000
DTEND;TZID=Europe/Kyiv:20240609T210000
DTSTAMP:20260423T185036
CREATED:20240412T092802Z
LAST-MODIFIED:20240419T072421Z
UID:10090-1717959600-1717966800@mbk.rv.ua
SUMMARY:Вистава "Наші Кайдаші"
DESCRIPTION:\n9 червень 2024 року\n19:00\nГлядацька зала\n\nНаші КАЙДАШІ\nЗірковий склад історії\, яку ми усі любимо і знаємо!\nТАРАС ЦИМБАЛЮК – актор кіно: «Спіймати Кайдаша»\, “Зв’язок”\, “Чорний ворон”\nОЛЬГА СУМСЬКА – народна артистка України\nІРИНА СОПОНАРУ – акторка кіно: “Одного разу під Полтавою”\, “Країна У” та акторка студії “Квартал 95”\nНАТАЛКА ДЕНИСЕНКО – акторка кіно: “Кріпосна”\, “Папаньки”\, “Дівчата”\nОЛЯ АТАНАСОВА – акторка кіно: “Різниця у віці”\, “Папаньки”\, “Полюби мене такою”\, “Дві матері”\nОЛЕКСАНДР ПІСКУНОВ – актор кіно: “Козаки – абсолютно брехлива історія” “Кіборги”\, “І будуть люди”\nВІКТОР КОШЕВЕНКО – актор кіно: “Зникаючі сліди”\, “Розтин покаже”.\nНаші Кайдаші спіймали Любов! Не пропустіть можливість побачити Кайдашів у сучасній і неймовірній пригоді\, яка така близька кожному українцю. Адже вона про нас. Про усіх нас. Справжній майстер клас з Життя на сцені. З нашого Життя… З усмішкою\, нашим гумором і Великим Коханням!\nПродюсер – Олійник Є. І.\nРежисер\, автор – Олійник Є. В. \n\n\nКВИТКИ:  \n– на сайті https://rivne.karabas.com/ua/nashi-kajdashi-24 \nДовідки за телефоном:\n\n\n☎️ 066 171 3456  \n
URL:https://mbk.rv.ua/event/%d0%b2%d0%b8%d1%81%d1%82%d0%b0%d0%b2%d0%b0-%d0%bd%d0%b0%d1%88%d1%96-%d0%ba%d0%b0%d0%b9%d0%b4%d0%b0%d1%88%d1%96/
CATEGORIES:Вистави
END:VEVENT
END:VCALENDAR