BEGIN:VCALENDAR
VERSION:2.0
PRODID:-//МБК - ECPv4.6.16//NONSGML v1.0//EN
CALSCALE:GREGORIAN
METHOD:PUBLISH
X-WR-CALNAME:МБК
X-ORIGINAL-URL:https://mbk.rv.ua
X-WR-CALDESC:Events for МБК
BEGIN:VEVENT
DTSTART;TZID=Europe/Kyiv:20250317T190000
DTEND;TZID=Europe/Kyiv:20250317T210000
DTSTAMP:20260419T121553
CREATED:20250224T121446Z
LAST-MODIFIED:20250224T121446Z
UID:11173-1742238000-1742245200@mbk.rv.ua
SUMMARY:Chico & Qatoshi в Рівному!
DESCRIPTION:\n17 березня 2025 року\n19:00\nГлядацька зала\n\nChico & Qatoshi —  автори суперхітів  «Ластівки»\, «Допоможе ЗСУ» \, “Покохай мене” \, “Акація” та ін.\, які не лише підкорили чарти\, але й стали символом підтримки української армії. Їх музика втілює силу\, боротьбу та надію\, що резонує з кожним слухачем. \nВже зовсім скоро Chico & Qatoshi дають свій сольний концерт у вашом місті \, де разом з вами заспівають улюблені хіти та нові пісні. \nКВИТКИ: \n\n\n– в касі МБК \n– на сайті Karabas.com \nДовідки за телефоном: \n\n\n☎️ 066 171 3456  \n
URL:https://mbk.rv.ua/event/chico-qatoshi-%d0%b2-%d1%80%d1%96%d0%b2%d0%bd%d0%be%d0%bc%d1%83/
CATEGORIES:Концерти
END:VEVENT
END:VCALENDAR