BEGIN:VCALENDAR
VERSION:2.0
PRODID:-//МБК - ECPv4.6.16//NONSGML v1.0//EN
CALSCALE:GREGORIAN
METHOD:PUBLISH
X-WR-CALNAME:МБК
X-ORIGINAL-URL:https://mbk.rv.ua
X-WR-CALDESC:Events for МБК
BEGIN:VEVENT
DTSTART;TZID=Europe/Kyiv:20250330T160000
DTEND;TZID=Europe/Kyiv:20250330T180000
DTSTAMP:20260419T155755
CREATED:20250224T130005Z
LAST-MODIFIED:20250224T130005Z
UID:11188-1743350400-1743357600@mbk.rv.ua
SUMMARY:Інтерактивна\, музично-розважальна вистава для всієї родини «Minecraft в реальному житті»
DESCRIPTION:\n30 березня 2025 року\n16:00\nГлядацька зала \n\nЗлий та підступний ЕндерДракон відправляє героїв Майнкрафту в реальний світ\, де вони об’єднуються в одну команду і навіть стають друзями. Діти будуть не лише глядачами\, але й допомагатимуть героям долати усі випробування та перешкоди. Та чи вдасться героям повернутися у гру і побороти Дракона Краю? \nЗахопливий сюжет\, де добро перемагає зло. Феєричні костюми\, вражаючі декорації та спецефекти\, професійна гра акторів занурить усіх вас у дивовижний світ Майнкрафту і подарує незабутні емоції та враження. \nВікова категорія 3+ \n\n\nКВИТКИ: \n  – в касі МБК \n  – на сайті Karabas.com \nДовідки за телефоном:\n\n\n☎️ 066 171 3456  \n  \n
URL:https://mbk.rv.ua/event/%d1%96%d0%bd%d1%82%d0%b5%d1%80%d0%b0%d0%ba%d1%82%d0%b8%d0%b2%d0%bd%d0%b0-%d0%bc%d1%83%d0%b7%d0%b8%d1%87%d0%bd%d0%be-%d1%80%d0%be%d0%b7%d0%b2%d0%b0%d0%b6%d0%b0%d0%bb%d1%8c%d0%bd%d0%b0-%d0%b2%d0%b8/
CATEGORIES:Вистави
END:VEVENT
END:VCALENDAR