BEGIN:VCALENDAR
VERSION:2.0
PRODID:-//МБК - ECPv4.6.16//NONSGML v1.0//EN
CALSCALE:GREGORIAN
METHOD:PUBLISH
X-WR-CALNAME:МБК
X-ORIGINAL-URL:https://mbk.rv.ua
X-WR-CALDESC:Events for МБК
BEGIN:VEVENT
DTSTART;TZID=Europe/Kyiv:20250114T190000
DTEND;TZID=Europe/Kyiv:20250114T220000
DTSTAMP:20260422T103609
CREATED:20241127T120335Z
LAST-MODIFIED:20241127T120335Z
UID:10875-1736881200-1736892000@mbk.rv.ua
SUMMARY:Степан Гіга
DESCRIPTION:\n\n\n14 січня 2024 року\n19:00\nГлядацька зала\n\n\n«Новорічні пригоди щенячого патруля»\nБажаєте файно провести час\, заходьте до нас!\nУ період Різдвяних та новорічних свят до нас завітає весела та грайлива команда Щенячого патруля разом з хлопчиком Райдером\, цуценятами: Гонщиком\, Маршалом\, Скай\, Еверест та з іншими персонажами.\nНеймовірні пригоди цуценят – яскраве\, динамічне шоу\, сповнене добрими жартами\, веселими піснями\, танцями та інтерактивними іграми за участю великих ляльок і вас наші маленькі глядачі! А цікавий сюжет та крутезні декорації допоможуть ще краще поринути в чарівний світ улюблених супергероїв.\nВистава зроблена в чудовій\, теплій атмосфері\, яка сподобається всій родині!\nДіткам до 4-х років – вхід безкоштовний\, як що дитина на руках у дорослих.\nПригоди щенячого патруля – найкраще родинне шоу для вашого новорічного настрою! Приходьте самі та беріть з собою друзів.\nДо зустрічі! \n\n\n\n\n\n  \n\n\n\n\nКВИТКИ: \n– в касі МБК \n– на сайті https://rivne.karabas.com/stepan-hiha-40/ \nДовідки за телефоном: \n\n\n☎️ 066 171 3456  \n\n\n
URL:https://mbk.rv.ua/event/%d1%81%d1%82%d0%b5%d0%bf%d0%b0%d0%bd-%d0%b3%d1%96%d0%b3%d0%b0-2/
CATEGORIES:Концерти
END:VEVENT
END:VCALENDAR