BEGIN:VCALENDAR
VERSION:2.0
PRODID:-//МБК - ECPv4.6.16//NONSGML v1.0//EN
CALSCALE:GREGORIAN
METHOD:PUBLISH
X-WR-CALNAME:МБК
X-ORIGINAL-URL:https://mbk.rv.ua
X-WR-CALDESC:Events for МБК
BEGIN:VEVENT
DTSTART;TZID=Europe/Kyiv:20250109T190000
DTEND;TZID=Europe/Kyiv:20250109T190000
DTSTAMP:20260422T104408
CREATED:20241224T101251Z
LAST-MODIFIED:20241224T101658Z
UID:10970-1736449200-1736449200@mbk.rv.ua
SUMMARY:Оновлене шоу “The Harry Potter Symphony. Part 2” від BIGSHOW ORCHESTRA!
DESCRIPTION:\n\n\n9 січня 2025 року\n19:00\nГлядацька зала \n\n\n\n  \nОновлене шоу “The Harry Potter Symphony. Part 2” від BIGSHOW ORCHESTRA! \nЗахоплива музично-театральна подорож у світ Гаррі Поттера\, до школи магії Гоґвортс! \nУлюблені мелодії з усіх частин легендарної саги звучатимуть у виконанні BIGSHOW Orchestra. Найкращі композиції Джона Вільямса\, Патріка Дойла\, Ніколаса Хупера та Александра Деспла виконуватимуть студенти всіх факультетів Гоґвортсу\, а Рубеус Геґрід та Сивіла Трелоні проведуть екскурсію найтемнішими місцями школи\, які свого часу пройшов Гаррі Поттер! \nНеймовірне звучання супроводжуватиме відеоряд із культових моментів із фільмів “Гаррі Поттер”\, що дозволить вам пережити улюблені сцени по-новому\, поєднуючи музику з вражаючими візуальними ефектами. Знайомі твори звучатимуть у нових барвах\, а спеціальні світлові шоу додадуть казкового відчуття. \nУнікальні декорації та Алея Діаґон у холі театру перенесуть вас безпосередньо до світу магії. \n“The Harry Potter Symphony” — це цілісна історія\, яка супроводжується відеорядом\, музичним і візуальним шоу\, інтерактивним театральним дійством\, безліччю сюрпризів і подарунків\, що дозволяють повністю зануритися у магічний всесвіт хлопчика\, який переміг зло! \nІ ми переможемо! \n  \n\n\n\n\n\nКВИТКИ: \n– в касі МБК \n– на сайті https://rivne.karabas.com/the-harry-potter-symphony-54/ \nДовідки за телефоном: \n\n\n☎️ 066 171 3456  \n\n\n
URL:https://mbk.rv.ua/event/%d0%be%d0%bd%d0%be%d0%b2%d0%bb%d0%b5%d0%bd%d0%b5-%d1%88%d0%be%d1%83-the-harry-potter-symphony-part-2-%d0%b2%d1%96%d0%b4-bigshow-orchestra/
CATEGORIES:Концерти
END:VEVENT
END:VCALENDAR