BEGIN:VCALENDAR
VERSION:2.0
PRODID:-//МБК - ECPv4.6.16//NONSGML v1.0//EN
CALSCALE:GREGORIAN
METHOD:PUBLISH
X-WR-CALNAME:МБК
X-ORIGINAL-URL:https://mbk.rv.ua
X-WR-CALDESC:Events for МБК
BEGIN:VEVENT
DTSTART;TZID=Europe/Kyiv:20241008T190000
DTEND;TZID=Europe/Kyiv:20241008T210000
DTSTAMP:20260423T115606
CREATED:20240806T115743Z
LAST-MODIFIED:20240806T115743Z
UID:10366-1728414000-1728421200@mbk.rv.ua
SUMMARY:Наталія Могилевська. Моновистава «Доньки»
DESCRIPTION:\n8 жовтня 2024 року\n19:00\nГлядацька зала\n\n  \nВистава “Доньки” – це присвята всім жінкам України\, які зараз героїчно переживають та проживають цю війну\, піклуються про дітей\, проявляючи милосердя та стійкість. \nЦе історія про те\, що навіть під час війни\, завжди є місце любові та милосердю. Вистава наповнена ніжністю\, коханням\, натхненням та молитвою про Боже благословення бути матір’ю. \nПродюсером вистави виступила Нонна Кондрашов \n  \n\n\nКВИТКИ: \n– в касі МБК \n– на сайті https://rivne.karabas.com/nataliya-mogilevska-monovistava-donki-3 \nДовідки за телефоном:\n\n\n☎️ 066 171 3456  \n
URL:https://mbk.rv.ua/event/%d0%bd%d0%b0%d1%82%d0%b0%d0%bb%d1%96%d1%8f-%d0%bc%d0%be%d0%b3%d0%b8%d0%bb%d0%b5%d0%b2%d1%81%d1%8c%d0%ba%d0%b0-%d0%bc%d0%be%d0%bd%d0%be%d0%b2%d0%b8%d1%81%d1%82%d0%b0%d0%b2%d0%b0-%d0%b4%d0%be/
CATEGORIES:Вистави,Концерти
END:VEVENT
END:VCALENDAR