BEGIN:VCALENDAR
VERSION:2.0
PRODID:-//МБК - ECPv4.6.16//NONSGML v1.0//EN
CALSCALE:GREGORIAN
METHOD:PUBLISH
X-WR-CALNAME:МБК
X-ORIGINAL-URL:https://mbk.rv.ua
X-WR-CALDESC:Events for МБК
BEGIN:VEVENT
DTSTART;TZID=Europe/Kyiv:20240925T183000
DTEND;TZID=Europe/Kyiv:20240925T203000
DTSTAMP:20260423T133722
CREATED:20240617T135549Z
LAST-MODIFIED:20240617T135549Z
UID:10293-1727289000-1727296200@mbk.rv.ua
SUMMARY:МУР: Реп-мюзикл «ТИ [РОМАНТИКА]»
DESCRIPTION:\n25 вересня 2024 року\n18:30\nГлядацька зала\n\n  \n\n«Ти [Романтика]» – вистава\, для створення якої використовувалися матеріали однойменного альбому МУР. Робота отримала великий культурний резонанс\, про неї писали BBC\, Forbes та Vogue.\nДиректорка «Мистецького арсеналу» Олеся Островська назвала мюзикл «популярною культурою\, про яку мріяли з часів Винниченка»\, літературознавець Ростислав Семків лаконічно охрестив альбом «геніальним».\nГрандіозним\, талановитим\, пронизливим\, таким\, що справив найсильніше враження\, назвав МУР засновник FEDORIV Group Андрій Федорів. І ви маєте це побачити!\nКвитки на премʼєру в Києві були розкуплені за 15 годин від старту продажів\, а ще за добу і в Львівській опері не залишилось жодного вільного місця. Мюзикл створений на основі альбому [Ти Романтика]\, що МУР випустили раніше.\n«ЧОРТОВІ ГЕНІЇ. ДИВИТИСЯ ВСІМ»\, – ТАМАРА ГОРІХА ЗЕРНЯ\, ЛАВРЕАТКА ШЕВЧЕНКІВСЬКОЇ ПРЕМІЇ ТА ПРЕМІЇ «КНИГА РОКУ BBC»\, ПРО АЛЬБОМ.\n«Ти [Романтика]» змітає пил часу з імен Хвильового\, Курбаса\, Сосюри\, Семенка… Вперше покладені на музику: історія зради поета Павла Тичини\, служба у Третій Штурмовій Володимира Сосюри\, розстріл кожного другого з українських письменників у Будинку Слово\, самогубство Миколи Хвильового… Імена\, що оживають на сцені\, просто на ваших очах\, – непередаваний словами досвід.\nПроєкт МУР створений під час повномасштабної російсько-української війни українськими митцями з Києва та Донецька. До його складу входять: Олександр Хоменко (тексти\, речитатив)\, Віктор Ткаченко (тексти\, музика\, саундпродакшн) і Микола Шмундир (речитатив)\, Марія ОʼРайлі (режисер монтажу)\, Соломія Козолуп (арт-директор\, рісьорч)\, Олександр Заїка (обличчя проєкту\, речетатив).\nУ соцмережах гурт зібрав навколо себе багатотисячну аудиторію.\nДокументальні відео музикантів про історію Щедрика\, Павла Тичину\, Івана Багряного\, Василя Стуса й Василя Симоненка стали найпопулярнішим освітнім контентом про українську літературу в Instagram.\nНа рахунку гурту – два студійні релізи: «МУР Vol. 1» та «Захалявна книжечка» (2022). До них увійшли пісні на вірші Івана Франка\, Василя Стуса\, Миколи Вінграновського\, Павла Тичини\, Василя Симоненка\, Юрія Іздрика та інших українських поетів.\n  \n\n\nКВИТКИ: \n  \n– на сайті Concert.ua \nДовідки за телефоном:\n\n\n☎️ 066 171 3456  \n
URL:https://mbk.rv.ua/event/%d0%bc%d1%83%d1%80-%d1%80%d0%b5%d0%bf-%d0%bc%d1%8e%d0%b7%d0%b8%d0%ba%d0%bb-%d1%82%d0%b8-%d1%80%d0%be%d0%bc%d0%b0%d0%bd%d1%82%d0%b8%d0%ba%d0%b0/
CATEGORIES:Вистави
END:VEVENT
END:VCALENDAR