BEGIN:VCALENDAR
VERSION:2.0
PRODID:-//МБК - ECPv4.6.16//NONSGML v1.0//EN
CALSCALE:GREGORIAN
METHOD:PUBLISH
X-WR-CALNAME:МБК
X-ORIGINAL-URL:https://mbk.rv.ua
X-WR-CALDESC:Events for МБК
BEGIN:VEVENT
DTSTART;TZID=Europe/Kyiv:20240814T180000
DTEND;TZID=Europe/Kyiv:20240814T200000
DTSTAMP:20260423T133553
CREATED:20240809T083843Z
LAST-MODIFIED:20240809T083843Z
UID:10377-1723658400-1723665600@mbk.rv.ua
SUMMARY:Концерт “Симфонія Криму. Повернення” національного президентського оркестру.
DESCRIPTION:\n14 серпня 2024 року\n18:00\nГлядацька зала\n\n  \n\nУ кожного з нас свої спогади про Крим. Але що ми знаємо про культуру Криму\, кримськотатарську симфонічну музику.\nВідвідайте унікальну подію «Симфонія Криму. Повернення» у Рівному! Ви не тільки познайомитесь з кримськотатарською академічною симфонічною музикою високого ґатунку\, але й відчуєте єдність країни\, відкриєте двері до недоступних сьогодні\, через тимчасову окупацію Криму рф\, – культурних скарбів півострова. А також поринете у культуру кримськотатарського народу\, як частину не лише українського культурного поля\, а й загальноєвропейського та світового.\nУ виконані Національного президентського оркестру під орудою Ділявера Османа прозвучить симфонічна музика однієї з найяскравіших сучасних кримськотатарських композиторок Ельвіри Емір та поезія польського класика Адама Міцкевича\, власне «Кримські сонети» (у перекладі Максима Рильського)\, написані митцем під враженням від його двомісячної подорожі Кримом\, у виконанні Олександра Рудько.\nНе пропустіть цю унікальну можливість доторкнутися до глибинної культури Криму\, відчути його красу та біль\, та зробити свій внесок у його повернення.\nГастрольний тур реалізовується Національним президентським оркестром за підтримки Міністерства культури та інформаційної політики України та участі ГО «Культурно-мистецька фундація DUSHA UA».\n\n  \nКВИТКИ:  \n– Вхід за попередньою реєстрацією по QR-коду на афіші\, заповнивши форму\, ви зможете безкоштовно відвідати подію! \n\n\nДовідки за телефоном:\n\n\n☎️ 066 171 3456  \n
URL:https://mbk.rv.ua/event/%d0%ba%d0%be%d0%bd%d1%86%d0%b5%d1%80%d1%82-%d1%81%d0%b8%d0%bc%d1%84%d0%be%d0%bd%d1%96%d1%8f-%d0%ba%d1%80%d0%b8%d0%bc%d1%83-%d0%bf%d0%be%d0%b2%d0%b5%d1%80%d0%bd%d0%b5%d0%bd%d0%bd%d1%8f/
CATEGORIES:Концерти
END:VEVENT
END:VCALENDAR