BEGIN:VCALENDAR
VERSION:2.0
PRODID:-//МБК - ECPv4.6.16//NONSGML v1.0//EN
CALSCALE:GREGORIAN
METHOD:PUBLISH
X-WR-CALNAME:МБК
X-ORIGINAL-URL:https://mbk.rv.ua
X-WR-CALDESC:Events for МБК
BEGIN:VEVENT
DTSTART;TZID=Europe/Kyiv:20240705T190000
DTEND;TZID=Europe/Kyiv:20240705T210000
DTSTAMP:20260423T151527
CREATED:20240617T104614Z
LAST-MODIFIED:20240617T111949Z
UID:10251-1720206000-1720213200@mbk.rv.ua
SUMMARY:Гурт "Один в каноє"
DESCRIPTION:\n5 липня 2024 року\n18:30\nГлядацька зала\n\n  \n«Добрих новин чекати — невдячна справа». Але вже незабаром ви матимете нагоду почути музику Один в каное у своєму рідному місті. «Бути собою»: радіти та сумувати\, плакати та сміятись — все це ви зможете робити на нашому концерті. \nПочути живе виконання «Один в полі воїн»\, «Човен»\, «У мене немає дому» та інших пісень\, які допомагають усім нам впоратись з емоційними викликами нашого воєнного сьогодення. Також\, разом з Один в каное\, ви зможете доєднатись до збору на катери для Головного управління розвідки Міністерства оборони України.\nРазом до перемоги! \nПобачимось! \n  \n\n\nКВИТКИ: \n– на сайті Karabas та Kasa.in.ua \nДовідки за телефоном:\n\n\n☎️ 066 171 3456  \n
URL:https://mbk.rv.ua/event/%d0%b3%d1%83%d1%80%d1%82-%d0%be%d0%b4%d0%b8%d0%bd-%d0%b2-%d0%ba%d0%b0%d0%bd%d0%be%d1%94-%d0%b2%d0%b8%d1%81%d1%82%d1%83%d0%bf%d0%b8%d1%82%d1%8c-%d0%b2-%d0%bc%d0%b1%d0%ba/
CATEGORIES:Концерти
END:VEVENT
END:VCALENDAR