BEGIN:VCALENDAR
VERSION:2.0
PRODID:-//МБК - ECPv4.6.16//NONSGML v1.0//EN
CALSCALE:GREGORIAN
METHOD:PUBLISH
X-WR-CALNAME:МБК
X-ORIGINAL-URL:http://mbk.rv.ua
X-WR-CALDESC:Events for МБК
BEGIN:VEVENT
DTSTART;TZID=Europe/Kyiv:20240612T190000
DTEND;TZID=Europe/Kyiv:20240612T210000
DTSTAMP:20260423T183715
CREATED:20240617T115006Z
LAST-MODIFIED:20240617T115006Z
UID:10255-1718218800-1718226000@mbk.rv.ua
SUMMARY:ІЗДРИК. ВЕЛИКИЙ ПОЕТИЧНИЙ ВЕЧІР
DESCRIPTION:\n12 червень 2024 року\n19:00\nГлядацька зала\n\nВеликий поетичний вечір культового українського письменника Юрія Іздрика у твоєму місті! \nНа вас чекає захоплююча атмосфера\, відчуття магії слів та найкращі твори митця. Юрій Іздрик — це не лише відомий поет\, а й втілення глибоких почуттів і філософських роздумів у своїх віршах. \n“І коли вже довкола пахне війною\nІ вже розгораються перші битви\nГовори зі мною\nГовори зі мною\nБо словом також можна любити”. \n\n\n  \nКВИТКИ:  \n– на сайті https://concert.ua/uk/booking/izdrik-rivne/ \n\n\n☎️ 066 171 3456  \n
URL:http://mbk.rv.ua/event/%d1%96%d0%b7%d0%b4%d1%80%d0%b8%d0%ba-%d0%b2%d0%b5%d0%bb%d0%b8%d0%ba%d0%b8%d0%b9-%d0%bf%d0%be%d0%b5%d1%82%d0%b8%d1%87%d0%bd%d0%b8%d0%b9-%d0%b2%d0%b5%d1%87%d1%96%d1%80/
CATEGORIES:Концерти
END:VEVENT
END:VCALENDAR