BEGIN:VCALENDAR
VERSION:2.0
PRODID:-//МБК - ECPv4.6.16//NONSGML v1.0//EN
CALSCALE:GREGORIAN
METHOD:PUBLISH
X-WR-CALNAME:МБК
X-ORIGINAL-URL:http://mbk.rv.ua
X-WR-CALDESC:Events for МБК
BEGIN:VEVENT
DTSTART;TZID=Europe/Kyiv:20240611T180000
DTEND;TZID=Europe/Kyiv:20240611T200000
DTSTAMP:20260423T183714
CREATED:20240514T095750Z
LAST-MODIFIED:20240514T095750Z
UID:10209-1718128800-1718136000@mbk.rv.ua
SUMMARY:Вистава «Конотопська відьма»
DESCRIPTION:\n11 червень 2024 року\n18:00\nГлядацька зала\n\nВідьми – норовливий народ: роблять не так\, як їх просять\, а так\, як їм заманеться \nВистава «Конотопська відьма» -це не чиста комедія\, це – казка для дорослих з дуже жорстоким фіналом. \n\n\n  \nКВИТКИ:  \n– на сайті https://rivne.karabas.com/konotopska-vidma-182 \n\n\n☎️ 066 171 3456  \n
URL:http://mbk.rv.ua/event/%d0%b2%d0%b8%d1%81%d1%82%d0%b0%d0%b2%d0%b0-%d0%ba%d0%be%d0%bd%d0%be%d1%82%d0%be%d0%bf%d1%81%d1%8c%d0%ba%d0%b0-%d0%b2%d1%96%d0%b4%d1%8c%d0%bc%d0%b0/
CATEGORIES:Вистави
END:VEVENT
END:VCALENDAR