BEGIN:VCALENDAR
VERSION:2.0
PRODID:-//МБК - ECPv4.6.16//NONSGML v1.0//EN
CALSCALE:GREGORIAN
METHOD:PUBLISH
X-WR-CALNAME:МБК
X-ORIGINAL-URL:http://mbk.rv.ua
X-WR-CALDESC:Events for МБК
BEGIN:VEVENT
DTSTART;TZID=Europe/Kyiv:20240502T180000
DTEND;TZID=Europe/Kyiv:20240502T200000
DTSTAMP:20260423T150907
CREATED:20240403T110301Z
LAST-MODIFIED:20240419T072028Z
UID:10049-1714672800-1714680000@mbk.rv.ua
SUMMARY:Вистава «Як виростити чоловіка в домашніх умовах»
DESCRIPTION:\n2 травня 2024 року\n18:00\nГлядацька зала\n\n  \nВистава «Як виростити чоловіка в домашніх умовах»  \nКомедія про стосунки чоловіків і жінок… І про те\, що в рекламі не завжди кажуть правду… \nУ центрі п’єси – сильна\, прекрасна і самовпевнена жінка! Вона має чудову роботу\, гроші… все\, крім кохання… або хоча б просто чоловіка. \nВ один прекрасний вечір … вона побачила рекламу про те\, що ідеального чоловіка можна тільки виростити … навіть в домашніх умовах ..! \nЧому варто піти на виставу «Як виростити чоловіка в домашніх умовах»? \n1.Блискуча комедія про різні світи чоловіка та жінки. \n2. На сцені – Ірма Вітовська та Олексій Гнатковський. \n3. Нестандартний сюжет та бурхливий фінал. \nУ головних ролях: \nІрма Вітовська (заслужена артистка України) \nОлексій Гнатковський (заслужений артист України) \nРежисер: ГОЛОС \nАвтори п’єси : Олексій Буратинський\, Давіс Колбергс\, Олексій Гнатковський. \nПродюсер: Давіс Колбергс («Про Що Мовчать Чоловіки\, або Дикун FOREVER» \n  \n\n\nКВИТКИ: \n– в касі МБК \n– на сайті https://rivne.karabas.com/ua/yak-virostiti-cholovika-v-domashnih-umovah-84 \nДовідки за телефоном:\n\n\n☎️ 066 171 3456  \n
URL:http://mbk.rv.ua/event/%d0%b2%d0%b8%d1%81%d1%82%d0%b0%d0%b2%d0%b0-%d1%8f%d0%ba-%d0%b2%d0%b8%d1%80%d0%be%d1%81%d1%82%d0%b8%d1%82%d0%b8-%d1%87%d0%be%d0%bb%d0%be%d0%b2%d1%96%d0%ba%d0%b0-%d0%b2-%d0%b4%d0%be%d0%bc%d0%b0/
CATEGORIES:Вистави
END:VEVENT
END:VCALENDAR