BEGIN:VCALENDAR
VERSION:2.0
PRODID:-//МБК - ECPv4.6.16//NONSGML v1.0//EN
CALSCALE:GREGORIAN
METHOD:PUBLISH
X-WR-CALNAME:МБК
X-ORIGINAL-URL:http://mbk.rv.ua
X-WR-CALDESC:Events for МБК
BEGIN:VEVENT
DTSTART;TZID=Europe/Kyiv:20240407T150000
DTEND;TZID=Europe/Kyiv:20240407T170000
DTSTAMP:20260423T150904
CREATED:20240403T104450Z
LAST-MODIFIED:20240403T104450Z
UID:10038-1712502000-1712509200@mbk.rv.ua
SUMMARY:Благодійний концерт “Вечір творчості Ігоря Поклада”
DESCRIPTION:\n\n\n7 квітня 2024 року\n15:00\nГлядацька зала\n\n\n\n\n\n\n\nБлагодійний концерт “Вечір творчості Ігоря Поклада”\nБільше півстоліття пісні Ігоря Поклада та його музика закохують в Україну десятки тисяч людей по всьому світу. Через мову його музики українці починали усвідомлювати\, що вони є нація\, яка має історію\, глибокі культурні традиції\, особливу унікальність і сміливий національний дух.\nСеред його творів – музика до мюзиклів та оперет\, до дитячих вистав\, для оркестрів та хору\, музика до мульфільмів і кінофільмів та понад 150 пісень.\n\nУчасники концерту:\n\nУчасники концерту:\n1. тріо “Любисток”\n2. гурт “Лісова пісня”\n3. гурт “Веремія”\n4. фольклорний ансамбль “Уляна” \n5. ансамбль сучасного танцю “Етика”\n6. Іванна Місюк\n7. Людмила Скрипка \n8. Майкл Фіськович\n9.Катерина Качановська\n10. Жанна Бичковська\n11. Роман Лукащик\n12. Ілля Кубай\n13. оркестр “Наспів”\n\n\n\n\n\n\nВхід за донат на ЗСУ\n\nДовідки за телефоном:\n\n\n☎️ +38 0 98 104 81 69 \n\n
URL:http://mbk.rv.ua/event/%d0%b1%d0%bb%d0%b0%d0%b3%d0%be%d0%b4%d1%96%d0%b9%d0%bd%d0%b8%d0%b9-%d0%ba%d0%be%d0%bd%d1%86%d0%b5%d1%80%d1%82-%d0%b2%d0%b5%d1%87%d1%96%d1%80-%d1%82%d0%b2%d0%be%d1%80%d1%87%d0%be%d1%81%d1%82/
CATEGORIES:Арт-проекти
END:VEVENT
END:VCALENDAR