BEGIN:VCALENDAR
VERSION:2.0
PRODID:-//МБК - ECPv4.6.16//NONSGML v1.0//EN
CALSCALE:GREGORIAN
METHOD:PUBLISH
X-WR-CALNAME:МБК
X-ORIGINAL-URL:http://mbk.rv.ua
X-WR-CALDESC:Events for МБК
BEGIN:VEVENT
DTSTART;TZID=Europe/Kyiv:20240330T190000
DTEND;TZID=Europe/Kyiv:20240330T210000
DTSTAMP:20260423T133459
CREATED:20240305T135632Z
LAST-MODIFIED:20240305T135632Z
UID:9947-1711825200-1711832400@mbk.rv.ua
SUMMARY:Концерт “100лиця” в Рівному!
DESCRIPTION:\n30 березня 2023 року\n19:00\nГлядацька зала\n\n  \nМолодий київський гурт “100лиця”. Його заснували друзі музиканти Назар Савчук і Влад Ступак. Дует завоював любов прихильниць завдяки своїм ліричним пісням\, а під їх танцювальні треки відривалася вся столиця.  \n  \nКВИТКИ: \n\n\n– в касі МБК \n– на сайті https://rivne.karabas.com/ua/100licya-37 \n\nДовідки за телефоном:\n\n\n☎️ 066 171 3456  \n
URL:http://mbk.rv.ua/event/%d0%ba%d0%be%d0%bd%d1%86%d0%b5%d1%80%d1%82-100%d0%bb%d0%b8%d1%86%d1%8f-%d0%b2-%d1%80%d1%96%d0%b2%d0%bd%d0%be%d0%bc%d1%83/
CATEGORIES:Концерти
END:VEVENT
END:VCALENDAR