BEGIN:VCALENDAR
VERSION:2.0
PRODID:-//МБК - ECPv4.6.16//NONSGML v1.0//EN
CALSCALE:GREGORIAN
METHOD:PUBLISH
X-WR-CALNAME:МБК
X-ORIGINAL-URL:http://mbk.rv.ua
X-WR-CALDESC:Events for МБК
BEGIN:VEVENT
DTSTART;TZID=Europe/Kyiv:20240315T183000
DTEND;TZID=Europe/Kyiv:20240315T203000
DTSTAMP:20260423T133631
CREATED:20240220T144249Z
LAST-MODIFIED:20240220T144249Z
UID:9850-1710527400-1710534600@mbk.rv.ua
SUMMARY:Христина Соловій
DESCRIPTION:\n15 березня 2024 року\n18:30\nГлядацька зала \n\n  \nМи давно не бачились. Я ось скоро буду у твоєму місті. Давай зустрінемось?.. \nХочу знати як ти. Мені стільки треба тобі розповісти. Знаєш\, я нарешті записала альбом своїх пісень. \nТи їх ще не чув\, але вони про тебе.\nПро нас. Бо ти – моє натхнення.\nПам’ятаєш наше літо?\nВоно тепер звучить у моїх піснях голосом моря… \nХочу знову побачити твої очі. Хочу співати тобі. Чекаю нашої зустрічі. \nТвоя Х.С. \n  \n\n\nКВИТКИ  \n– в касі МБК \n– на сайті https://rivne.karabas.com/hristina-solovij-45 \nДовідки за телефоном:\n\n\n☎️ 066 171 3456 \n
URL:http://mbk.rv.ua/event/%d1%85%d1%80%d0%b8%d1%81%d1%82%d0%b8%d0%bd%d0%b0-%d1%81%d0%be%d0%bb%d0%be%d0%b2%d1%96%d0%b9-2/
CATEGORIES:Концерти
END:VEVENT
END:VCALENDAR