BEGIN:VCALENDAR
VERSION:2.0
PRODID:-//МБК - ECPv4.6.16//NONSGML v1.0//EN
CALSCALE:GREGORIAN
METHOD:PUBLISH
X-WR-CALNAME:МБК
X-ORIGINAL-URL:http://mbk.rv.ua
X-WR-CALDESC:Events for МБК
BEGIN:VEVENT
DTSTART;TZID=Europe/Kyiv:20240308T190000
DTEND;TZID=Europe/Kyiv:20240308T210000
DTSTAMP:20260423T133503
CREATED:20240220T140353Z
LAST-MODIFIED:20240220T140353Z
UID:9844-1709924400-1709931600@mbk.rv.ua
SUMMARY:Джаз при свічках…
DESCRIPTION:\n8 березня 2024 року\n19:00\nГлядацька зала \n\n  \nУявіть: 8 березня\, вечір. Ви звільнили пару годин для себе і своїх близьких. Вишукана зала МБК і світло сотень свічок. Магічний джаз та безліч гарних фото. Подобається? Тоді чекаємо Вас! На сцену в цей день вийдуть джазові віртуози України – The Impressions Jazz Quintet. \n  \n\n\nКВИТКИ  \n– в касі МБК \n– на сайті https://rivne.karabas.com/ua/dzhaz-pri-svichkah-2 \nДовідки за телефоном:\n\n\n☎️ 066 171 3456 \n
URL:http://mbk.rv.ua/event/%d0%b4%d0%b6%d0%b0%d0%b7-%d0%bf%d1%80%d0%b8-%d1%81%d0%b2%d1%96%d1%87%d0%ba%d0%b0%d1%85/
CATEGORIES:Концерти
END:VEVENT
END:VCALENDAR