BEGIN:VCALENDAR
VERSION:2.0
PRODID:-//МБК - ECPv4.6.16//NONSGML v1.0//EN
CALSCALE:GREGORIAN
METHOD:PUBLISH
X-WR-CALNAME:МБК
X-ORIGINAL-URL:http://mbk.rv.ua
X-WR-CALDESC:Events for МБК
BEGIN:VEVENT
DTSTART;TZID=Europe/Kyiv:20240306T180000
DTEND;TZID=Europe/Kyiv:20240306T200000
DTSTAMP:20260423T133459
CREATED:20240220T131800Z
LAST-MODIFIED:20240220T131800Z
UID:9842-1709748000-1709755200@mbk.rv.ua
SUMMARY:Вистава “Нічна зміна”
DESCRIPTION:\n6 березня 2024 року\n18:00\nГлядацька зала \n\n  \nСУЧАСНИЙ ТЕАТР ІЗ ВИСТАВОЮ «НІЧНА ЗМІНА» \nНа численні прохання глядачів і фанатів театру. Довгоочікуване продовження спектаклю «Мужики не танцюють стриптиз». \nВас чекає зустріч з улюбленими героями і новими\, не менш яскравими\, персонажами. Якщо ви готові померти від сміху ви наш глядач. \nВИДОВИЩНА ТА ЕПАТАЖНА КОМЕДІЯ\nВи побачите довгоочікуване продовження гучної історії «Мужики не танцюють стриптиз». Обов’язково зустрінетеся із вже добре відомими персонажами та познайомитеся із новими\, не менш ефектними героями. Море позитиву та гучний щирий сміх накриють вас теплою лагідною хвилею. До зустрічі! \n\n\nКВИТКИ  \n– в касі МБК \n– на сайті https://rivne.karabas.com/ua/nichna-zmina-95 \nДовідки за телефоном:\n\n\n☎️ 066 171 3456  \n
URL:http://mbk.rv.ua/event/%d0%b2%d0%b8%d1%81%d1%82%d0%b0%d0%b2%d0%b0-%d0%bd%d1%96%d1%87%d0%bd%d0%b0-%d0%b7%d0%bc%d1%96%d0%bd%d0%b0/
CATEGORIES:Вистави
END:VEVENT
END:VCALENDAR