BEGIN:VCALENDAR
VERSION:2.0
PRODID:-//МБК - ECPv4.6.16//NONSGML v1.0//EN
CALSCALE:GREGORIAN
METHOD:PUBLISH
X-WR-CALNAME:МБК
X-ORIGINAL-URL:http://mbk.rv.ua
X-WR-CALDESC:Events for МБК
BEGIN:VEVENT
DTSTART;TZID=Europe/Kyiv:20240226T190000
DTEND;TZID=Europe/Kyiv:20240226T210000
DTSTAMP:20260423T111446
CREATED:20240110T143021Z
LAST-MODIFIED:20240110T143021Z
UID:9681-1708974000-1708981200@mbk.rv.ua
SUMMARY:Катерина Бужинська та Михайло Грицкан. ВОЛЯ
DESCRIPTION:\n26 лютого 2023 року\n19:00\nГлядацька зала\n\n\n\n\nЗустрічайте другу велику частину всеукраїнського благодійного туру «ВОЛЯ» Народної артистки України Катерини Бужинської та Заслуженого артиста України Михайла Грицкана. \nЛітом з аншлагами пройшли концерти у восьми містах України та в Європі. Під час кожного концерту проходив благодійний аукціон\, всі кошти від якого в повному обсязі передаються на потреби ЗСУ (на дрони для навчального центру аеророзвідки\, на 46 десантно-штурмову бригаду\, на 10 окрему гірсько-штурмову бригаду «Едельвейс»\, в якій служить рідний брат Катерини). \n«Не шкодуйте своїх грошей для наших захисників в той час\, коли вони не шкодують свого життя» – слова Катерини Бужинської під час проведення благодійного аукціону. \n“Ми\, українці\, здивували світ. Для нас головне – не зібрати мільйон\, а головне – відчути\, що кожна гривня наближає перемогу.» – так Михайло Грицкан пояснює\, що мотивує всю країну допомагати. \nНаближаємо нашу Перемогу піснею. \nСлава Україні! Слава ЗСУ! \n\n\nКВИТКИ: \n– в касі МБК \n– на сайті https://rivne.karabas.com/ua/katerina-buzhinska-ta-mihajlo-grickan-volya-3 \nДовідки за телефоном:\n\n\n☎️ 066 171 3456  \n\n\n\n
URL:http://mbk.rv.ua/event/%d0%ba%d0%b0%d1%82%d0%b5%d1%80%d0%b8%d0%bd%d0%b0-%d0%b1%d1%83%d0%b6%d0%b8%d0%bd%d1%81%d1%8c%d0%ba%d0%b0-%d1%82%d0%b0-%d0%bc%d0%b8%d1%85%d0%b0%d0%b9%d0%bb%d0%be-%d0%b3%d1%80%d0%b8%d1%86%d0%ba%d0%b0/
CATEGORIES:Концерти
END:VEVENT
END:VCALENDAR