BEGIN:VCALENDAR
VERSION:2.0
PRODID:-//МБК - ECPv4.6.16//NONSGML v1.0//EN
CALSCALE:GREGORIAN
METHOD:PUBLISH
X-WR-CALNAME:МБК
X-ORIGINAL-URL:http://mbk.rv.ua
X-WR-CALDESC:Events for МБК
BEGIN:VEVENT
DTSTART;TZID=Europe/Kyiv:20240224T113000
DTEND;TZID=Europe/Kyiv:20240224T123000
DTSTAMP:20260423T110132
CREATED:20240220T131135Z
LAST-MODIFIED:20240220T131135Z
UID:9836-1708774200-1708777800@mbk.rv.ua
SUMMARY:Вистава «День Народження Свинки Пеппи»
DESCRIPTION:\n24 лютого 2024 року\n11:30 \nГлядацька зала \n\nВистава «День Народження Свинки Пеппи»\nНеодмінно скористайтеся прекрасною нагодою файно повеселитися та отримати нові враження. Адже у компанії гарних друзів – свинки Пеппи\, мами Свинки\, тата Свина\, братика Джорджа\, кролика Ребекки та вівці Сьюзі – точно сумувати не доведеться! \n«День Нарождення Свинки Пеппи» – це динамічне шоу\, що підкорить добрим гумором\, яскравими танцями й піснями\, захопливим інтерактивом за участю дітей та великих ляльок. \nЗапрошуються діти дошкільного та молодшого шкільного віку. Чекаємо на вас! \n  \n\n\nКВИТКИ: \n  – в касі МБК \n – на сайті: https://rivne.internet-bilet.ua/uk/svinka-peppa \nДовідки за телефоном:\n\n\n☎️ 066 171 3456  \n
URL:http://mbk.rv.ua/event/%d0%b2%d0%b8%d1%81%d1%82%d0%b0%d0%b2%d0%b0-%d0%b4%d0%b5%d0%bd%d1%8c-%d0%bd%d0%b0%d1%80%d0%be%d0%b4%d0%b6%d0%b5%d0%bd%d0%bd%d1%8f-%d1%81%d0%b2%d0%b8%d0%bd%d0%ba%d0%b8-%d0%bf%d0%b5%d0%bf%d0%bf/
CATEGORIES:Вистави
END:VEVENT
END:VCALENDAR