BEGIN:VCALENDAR
VERSION:2.0
PRODID:-//МБК - ECPv4.6.16//NONSGML v1.0//EN
CALSCALE:GREGORIAN
METHOD:PUBLISH
X-WR-CALNAME:МБК
X-ORIGINAL-URL:http://mbk.rv.ua
X-WR-CALDESC:Events for МБК
BEGIN:VEVENT
DTSTART;TZID=Europe/Kyiv:20240207T180000
DTEND;TZID=Europe/Kyiv:20240207T200000
DTSTAMP:20260423T113408
CREATED:20240110T142648Z
LAST-MODIFIED:20240110T142648Z
UID:9677-1707328800-1707336000@mbk.rv.ua
SUMMARY:Вистава «Як мужик пішов наліво»
DESCRIPTION:\n7 лютого 2023 року\n18:00\nГлядацька зала\n\n  \nВистава «Як мужик пішов наліво»  \nАртист ТЮГу все життя хотів зніматися в кіно\, бути знаменитим та популярним. І ось доля дала йому довгоочікуваний шанс!\nАле хто ж міг подумати\, що це не звичайнісіньке кіно. Що ж робити?\nКонтракт підписано\, зйомки розпочинаються\, а артист не в змозі зіграти свою першу головну роль у кіно!\nНизка неймовірних комічних ситуацій змусить глядача надриватися від сміху.\nА несподівана розв’язка фіналу здивує навіть найдосвідченішого театрала. \n  \n\n\nКВИТКИ: \n– в касі МБК \n– на сайті https://rivne.karabas.com/ua/yak-muzhik-pishov-nalivo-5 \nДовідки за телефоном:\n\n\n☎️ 066 171 3456  \n
URL:http://mbk.rv.ua/event/%d0%b2%d0%b8%d1%81%d1%82%d0%b0%d0%b2%d0%b0-%d1%8f%d0%ba-%d0%bc%d1%83%d0%b6%d0%b8%d0%ba-%d0%bf%d1%96%d1%88%d0%be%d0%b2-%d0%bd%d0%b0%d0%bb%d1%96%d0%b2%d0%be/
CATEGORIES:Вистави
END:VEVENT
END:VCALENDAR