BEGIN:VCALENDAR
VERSION:2.0
PRODID:-//МБК - ECPv4.6.16//NONSGML v1.0//EN
CALSCALE:GREGORIAN
METHOD:PUBLISH
X-WR-CALNAME:МБК
X-ORIGINAL-URL:http://mbk.rv.ua
X-WR-CALDESC:Events for МБК
BEGIN:VEVENT
DTSTART;TZID=Europe/Kyiv:20240128T190000
DTEND;TZID=Europe/Kyiv:20240128T210000
DTSTAMP:20260423T100316
CREATED:20240110T142335Z
LAST-MODIFIED:20240110T142335Z
UID:9675-1706468400-1706475600@mbk.rv.ua
SUMMARY:Стендап. Алла Волкова. Сольний Концерт
DESCRIPTION:\n28 січня 2023 року\n19:00\nГлядацька зала \n\n\n\nУкраїнська стендап комікеса Алла Волкова.\nХаризматична і непередбачувана у своєму гуморі Алла Волкова – яскрава львівська стендап-комікеса\, чиї жарти чіпляють раз і назавжди і не лишають байдужим жодного глядача. Алла є резиденткою Бродячого стендапу\, відомого своїми фірмовими жартами без фільтрів. Тож стиль комікеси відрізняється не лише блискучою самоіронією\, а й жорсткістю\, неочікуваністю та при цьому – завжди дотепністю та філігранністю.  \nЛИШЕ ОДИН СТЕНДАП ЗА УЧАСТЮ АЛЛИ – І ВИ НАЗАВЖДИ СЕРЕД ЇЇ ШАНУВАЛЬНИКІВ.\nНеповторна Алла Волкова з легкістю вийшла на рівень сольних концертів\, відповідно в арифметичній прогресії збільшила як кількість своїх прихильників\, так і хейтерів. З останніх Алла також із неперевершеною майстерністю іронізує\, додаючи масив цих юдей скоріше у скарбницю своїх здобутків\, аніж невдач. Серед тем для жартів Алли Волкової – політичні події та найрізноманітніші життєві ситуації. Комікеса описує невдалі фотки\, ставлення до хейтерів та стосунки з чоловіками\, роль астрологів та інших колоритних постатей у нашому суспільстві. Тож якщо готові до прямого і щирого стендапу\, велкам! \nКВИТКИ: \n– на сайті https://rivne.karabas.com/ua/stendap-alla-volkova-solnij-koncert-35 \nДовідки за телефоном:\n\n\n☎️ 066 171 3456  \n
URL:http://mbk.rv.ua/event/%d1%81%d1%82%d0%b5%d0%bd%d0%b4%d0%b0%d0%bf-%d0%b0%d0%bb%d0%bb%d0%b0-%d0%b2%d0%be%d0%bb%d0%ba%d0%be%d0%b2%d0%b0-%d1%81%d0%be%d0%bb%d1%8c%d0%bd%d0%b8%d0%b9-%d0%ba%d0%be%d0%bd%d1%86%d0%b5%d1%80%d1%82/
CATEGORIES:стендап
END:VEVENT
END:VCALENDAR