BEGIN:VCALENDAR
VERSION:2.0
PRODID:-//МБК - ECPv4.6.16//NONSGML v1.0//EN
CALSCALE:GREGORIAN
METHOD:PUBLISH
X-WR-CALNAME:МБК
X-ORIGINAL-URL:http://mbk.rv.ua
X-WR-CALDESC:Events for МБК
BEGIN:VEVENT
DTSTART;VALUE=DATE:20230420
DTEND;VALUE=DATE:20230527
DTSTAMP:20260419T195858
CREATED:20230409T134546Z
LAST-MODIFIED:20230420T103730Z
UID:8458-1681948800-1685145599@mbk.rv.ua
SUMMARY:Виставка «Великодні мотиви»
DESCRIPTION:\n20 квітня – 26 травня 2023 року\nВиставкова зала\n\n\nЗ 20 квітня  по 26 травня  у Виставкова зала МБК Рівне  діятиме виставка «Великодні мотиви» студії декоративно-ужиткового мистецтва Міський Будинок Культури / Рівне\, керівник Анна Крилошанська.\nУ виставці беруть участь майстри народного мистецтва всіх видів і жанрів з багатьох регіонів України. Експонати виконані у різних техніках. Хочеться виділити ляльок-мотанок. На відкритті Ви почуєте історію їх виготовлення.\nОсобливість виставки у деталях: декоровані традиційними символами писанки\, перші весняні птахи\, вишиті рушники та унікальні сорочки! Усе гармонійно вплетено у розкішну композицію «Великодніх мотивів».\nПідлаштовуйте свої плани та внесіть дату у календар!\nУ виставці зосереджена уся українська міць.\nЗ кожним роком вона збирає все більше і більше прихильників.\nПориньте з нами унікальність традиційної етнічної культури українців свята Великдень.\nВідвідати виставку “Великодні мотиви” можна з понеділка по п’ятницю з 10:00 до 17:00\nДо зустрічі !!!\n\n
URL:http://mbk.rv.ua/event/%d0%b2%d1%96%d0%b4%d0%ba%d1%80%d0%b8%d1%82%d1%82%d1%8f-%d0%b2%d0%b8%d1%81%d1%82%d0%b0%d0%b2%d0%ba%d0%b8-%d0%b2%d0%b5%d0%bb%d0%b8%d0%ba%d0%be%d0%b4%d0%bd%d1%96-%d0%bc%d0%be%d1%82%d0%b8%d0%b2/
CATEGORIES:Вистави
END:VEVENT
BEGIN:VEVENT
DTSTART;TZID=Europe/Kyiv:20230514T120000
DTEND;TZID=Europe/Kyiv:20230514T140000
DTSTAMP:20260419T195858
CREATED:20230504T112101Z
LAST-MODIFIED:20230504T112101Z
UID:8572-1684065600-1684072800@mbk.rv.ua
SUMMARY:Концерт естрадного хору “Кольорові ноти”/ “Мелодія твоєї мрії”
DESCRIPTION:Звітний концерт естрадного хору “Кольорові ноти” Міського Будинку культури “Мелодія твоєї мрії”. \nКерівник – Світлана Малько. \nКонцертмейстер хору – Леся Бушинська. \nТемою концертних пісень юних артистів буде МРІЯ!   \nВи матимете можливість насолодитися улюбленими хітами у цікавих мелодичних аранжуваннях\, а також почути нові та захоплюючі композиції. \nВиконавці розкажуть про кольорове дитинство\, любов до родини та рідної землі. Естрадний хор “Кольорові ноти” представить неперевершену синергію музики та мрій.  \nЗапрошені гості: \n\nнародний ансамбль бального танцю “Флеш”\, Міського Палацу культури. “Гарно так”. Керівник Заслужений діяч мистецтв України Роман Гриценюк. Балетмейстери Ольга Дитюк та Володимир Толчанов. \nхореографічна студія «INTENSE» Палацу культури та спорту «Хімік» Керівник Анастасія Антонюк.\n\nМи будемо раді бачити вас серед наших гостей і сподіваємось\, що цей концерт принесе вам багато радості і незабутніх вражень.  \n  \n\n\nКВИТКИ: \n– в касі МБК \n\n\n☎️ 066 171 3456  \n
URL:http://mbk.rv.ua/event/%d0%ba%d0%be%d0%bd%d1%86%d0%b5%d1%80%d1%82-%d0%b5%d1%81%d1%82%d1%80%d0%b0%d0%b4%d0%bd%d0%be%d0%b3%d0%be-%d1%85%d0%be%d1%80%d1%83-%d0%ba%d0%be%d0%bb%d1%8c%d0%be%d1%80%d0%be%d0%b2%d1%96-%d0%bd/
CATEGORIES:Концерти
END:VEVENT
BEGIN:VEVENT
DTSTART;TZID=Europe/Kyiv:20230514T180000
DTEND;TZID=Europe/Kyiv:20230514T200000
DTSTAMP:20260419T195858
CREATED:20230317T143817Z
LAST-MODIFIED:20230317T143817Z
UID:8365-1684087200-1684094400@mbk.rv.ua
SUMMARY:Улюблені «вар’яти» — «ТеСАМеШоу».
DESCRIPTION:\n14 травня 2023 року\n18:00\nГлядацька зала\n\nЇхній гумор міцний\, як постріл «Байрактара»! Мова — файна українська! Серця — щирі й патріотичні! А концерти — завжди незабутні і надихаючі! Улюблені «вар’яти» — «ТеСАМеШоу» призначають побачення всьому місту! \nВас чекає нова концертна програма\, актуальні жарти\, яскраві пісні та дві години найкращого настрою\, які запалять бойовим духом та позитивом кожного глядача! — «ТеСАМеШоу» — це саме те шоу\, яке потрібне всім\, хто любить справжній український гумор! І ми продовжуємо робити те\, що найкраще вміємо — жартувати українською там\, де вона звучить! Там\, де нас чекають! \nДавайте разом піднімемо наш дух до Перемоги\, підтримаємо один одного та допоможемо ЗСУ! — запрошують Владзьо\, Володимир Жогло\, Валентин Сергійчук\, Віталій Тильний і Сергій Полупан\, нагадуючи\, що купуючи квитки\, ви долучитесь до доброї справи! Адже частина коштів від продажу квитків підуть на підтримку ЗСУ! \nТож даруйте собі та рідним миті радості\, підтримуючи наших захисників! \n\n\nКВИТКИ: \n– в касі МБК \nта на сайті https://rivne.karabas.com/ua/tesameshou-103/order/ \nДовідки за телефоном:\n\n\n☎️ 066 171 3456  \n
URL:http://mbk.rv.ua/event/%d1%83%d0%bb%d1%8e%d0%b1%d0%bb%d0%b5%d0%bd%d1%96-%d0%b2%d0%b0%d1%80%d1%8f%d1%82%d0%b8-%d1%82%d0%b5%d1%81%d0%b0%d0%bc%d0%b5%d1%88%d0%be%d1%83/
CATEGORIES:Концерти
END:VEVENT
END:VCALENDAR