BEGIN:VCALENDAR
VERSION:2.0
PRODID:-//МБК - ECPv4.6.16//NONSGML v1.0//EN
CALSCALE:GREGORIAN
METHOD:PUBLISH
X-WR-CALNAME:МБК
X-ORIGINAL-URL:http://mbk.rv.ua
X-WR-CALDESC:Events for МБК
BEGIN:VEVENT
DTSTART;TZID=Europe/Kyiv:20230407T190000
DTEND;TZID=Europe/Kyiv:20230407T210000
DTSTAMP:20260419T180829
CREATED:20230406T114215Z
LAST-MODIFIED:20230406T114215Z
UID:8435-1680894000-1680901200@mbk.rv.ua
SUMMARY:Стендап у Будинку культури
DESCRIPTION:Свіжа порція сміливого та відвертого гумору про нас та актуальні події навколо. \nУчасники вечора: \n– Лєра Мандзюк – учасниця “Жіночого Кварталу” та коментаторка у шоу “Богиня Шопінгу”; \n– Тарас Яремій – ведучий youtube-шоу “Біографія”\, резидент клубу “Standup.UA”; \n– Слава Бу – комік з Херсона\, резидент клубу “Stand Up Art House”\, випустив сольний концерт “Херсон – це Україна”; \n– Вова Євчук – засновник “Rivne City Stand Up”\, триразовий переможець проекту «Розміши коміка»; \n– Міша Мартинчук – івент-ведучий\, учасник та переможець «Розсміши коміка»\, чемпіон регіональної “Ліги сміху”; \n– Ігор Рапіта – стендап комік клубу “Rivne City Stand Up” \n20% від проданих квитків ми передамо на потреби ЗСУ! Тому Ви зможете зробити дві корисні справи водночас – допомогти нашим хлопцям на передовій та отримати порцію гарного настрою від коміків! \nВійськовим вхід БЕЗКОШТОВНО (за попередньою реєстрацією в інстаграм – @rivne_standup) \n\n\nКВИТКИ: \n– в касі МБК \n\n\n\nна сайті https://rivne.karabas.com/ua/stendap-u-budinku-kulturi-1\n\n\nДовідки за телефоном:\n☎️ 066 171 3456\n\n\n
URL:http://mbk.rv.ua/event/%d1%81%d1%82%d0%b5%d0%bd%d0%b4%d0%b0%d0%bf-%d1%83-%d0%b1%d1%83%d0%b4%d0%b8%d0%bd%d0%ba%d1%83-%d0%ba%d1%83%d0%bb%d1%8c%d1%82%d1%83%d1%80%d0%b8/
CATEGORIES:Концерти
END:VEVENT
END:VCALENDAR