BEGIN:VCALENDAR
VERSION:2.0
PRODID:-//МБК - ECPv4.6.16//NONSGML v1.0//EN
CALSCALE:GREGORIAN
METHOD:PUBLISH
X-WR-CALNAME:МБК
X-ORIGINAL-URL:http://mbk.rv.ua
X-WR-CALDESC:Events for МБК
BEGIN:VEVENT
DTSTART;TZID=Europe/Kyiv:20230317T190000
DTEND;TZID=Europe/Kyiv:20230317T210000
DTSTAMP:20260419T161100
CREATED:20230206T113326Z
LAST-MODIFIED:20230221T143517Z
UID:8183-1679079600-1679086800@mbk.rv.ua
SUMMARY:Nirvana з Симфонічним Оркестром Tribute Show у Рівному відбудеться завдяки ЗСУ!
DESCRIPTION:Nirvana з Симфонічним Оркестром Tribute Show у Рівному відбудеться завдяки ЗСУ! \nЧому варто відвідати цей концерт: \n\nПочути хіти Nirvana у виконанні потужного рок-гурту разом з живим симфонічним оркестром\nЗаспівати «Come As You Are» разом з тисячним залом\nПровести незабутні півтори години у Нірвані в найкращому концертному майданчику міста!\nГОЛОС ПОКОЛІННЯ У ПОЄДНАННІ З НЕЗМІННОЮ КЛАСИКОЮ\n\n\nГурт Nirvana закінчив свій творчий шлях в 1994 році. Нам так і не довелося почути те\, як дивовижно поєднуються їх пісні з симфонією. Як підсвідомо хочется співати\, коли впізнаєш початок улюбленої пісні з першим «штрихом» струнників. Коли розмаїття симфонічних партій та рокова живість гітари Курта утворюють симбіоз\, ніби були створені один для одного.\n\n\nПроте\, Nirvana із Симфонічним Оркестром Tribute Show\, вперше в історії дає нам таку можливість! Брудні гітари\, гаражне звучання рок-гурту і академічна вихованість оркестру утворюють унікальну атмосферу\, що ще надовго утримується в пам’яті після відвідування шоу.\n\n\nПартії для Симфонічного Оркестру були написані у співпраці із Німецькими та Британськими композиторами\, а диригент концерту – Заслужений Артист України.\n\n\nДля поринання у Нірвану навіть не обов’язково бути фанатом оригінального гурту.\n\n\nМайстерність усіх музикантів на сцені передасть емоції та енергію просто до Вашого серця.\n\n\nНа цьому концерті пролунають не тільки головні хіти Nirvana\, як “Smells Like Teen Spirit”\, “Come As You Are”\, “Rape Me”\, “In Bloom”\, буде багато несподіванок і музичних сюрпризів.\n\n\nГратимуть: Рок-гурт Fontaliza\, що вже встиг запам’ятатися протягом останніх років якістю та відданістю у виконанні музики Nirvana Україною та за кордоном. До того ж\, гурт лунав перед повним стадіоном НСК «Олімпійський»\, підтримуючи концерт Океану Ельзи\n\n\nХочете стати частиною цього дійства та запам’ятати вечір на все життя?\nСлідкуйте за афішою у своєму місті та купуйте квитки заздалегідь\, адже SOLD OUT завжди настає раптово.\n\nКВИТКИ: \n– в касі МБК \nта на сайті https://rivne.karabas.com/ua/nirvana-z-simfonichnim-orkestrom-tribute-show-2 \nДовідки за телефоном:\n\n\n☎️ 066 171 3456  \n
URL:http://mbk.rv.ua/event/nirvana-%d0%b7-%d1%81%d0%b8%d0%bc%d1%84%d0%be%d0%bd%d1%96%d1%87%d0%bd%d0%b8%d0%bc-%d0%be%d1%80%d0%ba%d0%b5%d1%81%d1%82%d1%80%d0%be%d0%bc-tribute-show-%d1%83-%d1%80%d1%96%d0%b2%d0%bd%d0%be%d0%bc%d1%83/
CATEGORIES:Концерти
END:VEVENT
END:VCALENDAR