BEGIN:VCALENDAR
VERSION:2.0
PRODID:-//МБК - ECPv4.6.16//NONSGML v1.0//EN
CALSCALE:GREGORIAN
METHOD:PUBLISH
X-WR-CALNAME:МБК
X-ORIGINAL-URL:http://mbk.rv.ua
X-WR-CALDESC:Events for МБК
BEGIN:VEVENT
DTSTART;TZID=Europe/Kyiv:20260517T140000
DTEND;TZID=Europe/Kyiv:20260517T153000
DTSTAMP:20260423T113553
CREATED:20260416T125521Z
LAST-MODIFIED:20260416T125521Z
UID:12515-1779026400-1779031800@mbk.rv.ua
SUMMARY:“Фрески”. Етика
DESCRIPTION:\n17 травня 2026 року\n14:00 год\nГлядацька зала\n\n\nЄ мистецтво\, яке не створюється за один\nдень. Його не можна пришвидшити\, оминути чи відтворити вдруге однаково. Воно народжується шар за шаром – у русі\, у помилках\, у пошуку\, у натхненні. У щоденній праці\, що з часом перетворюється на красу.\nНаша мистецька програма «Фрески» – про тих\, хто став частиною великого полотна. Про кожну окрему танцюристку колективу\, хто танцював з нами протягом 30 років.\nКожна з них — окрема фреска. Жива\, глибока\, витончена. Зі своїм характером\, відтінками\, світлом і тінню.\nАдже ми не просто створювали танці — ми творили образи\, які залишаються у нашому тілі\, у памʼяті та серці.\n«Фрески» – це про час\, що не зникає.\nПро красу\, яка формується роками.\nІ про людей\, які стають мистецтвом.\nВхід за запрошеннями\nДовідки за телефоном:\n097 110 56 01\n\n
URL:http://mbk.rv.ua/event/%d1%84%d1%80%d0%b5%d1%81%d0%ba%d0%b8-%d0%b5%d1%82%d0%b8%d0%ba%d0%b0/
CATEGORIES:Концерти
ATTACH;FMTTYPE=image/jpeg:http://mbk.rv.ua/wp-content/uploads/2026/04/Фрески-1.jpg
END:VEVENT
END:VCALENDAR