BEGIN:VCALENDAR
VERSION:2.0
PRODID:-//МБК - ECPv4.6.16//NONSGML v1.0//EN
CALSCALE:GREGORIAN
METHOD:PUBLISH
X-WR-CALNAME:МБК
X-ORIGINAL-URL:http://mbk.rv.ua
X-WR-CALDESC:Events for МБК
BEGIN:VEVENT
DTSTART;TZID=Europe/Kyiv:20260510T140000
DTEND;TZID=Europe/Kyiv:20260510T153000
DTSTAMP:20260423T100052
CREATED:20260416T125134Z
LAST-MODIFIED:20260416T125207Z
UID:12513-1778421600-1778427000@mbk.rv.ua
SUMMARY:Кольорові ноти «10 років об’єднані піснею»
DESCRIPTION:10 травня 2026 року\n14:00 год\nГлядацька зала\nЕстрадний хор “Кольорові ноти” святкує свій ювілей — 10 років творчості\, натхнення та єдності у пісні!\nКонцерт «10 років об’єднані піснею» — це історія нашого колективу\, щирі емоції\, улюблені пісні та яскраві виступи\, які ми з радістю розділимо разом із вами!\nНа сцені — наші талановиті діти та молодь\, для яких музика стала частиною життя!\nЦього дня поруч із хором будуть наші неймовірні друзі\, про яких ми зовсім скоро вам розкажемо. Отож чекайте на музичні сюрпризи!Будемо щасливі бачити кожного з Вас серед наших глядачів! Разом створимо свято\, яке залишиться у серці надовго!\nВхід за запрошеннями\nДовідки за телефоном:\n 097 110 56 01\n
URL:http://mbk.rv.ua/event/%d0%ba%d0%be%d0%bb%d1%8c%d0%be%d1%80%d0%be%d0%b2%d1%96-%d0%bd%d0%be%d1%82%d0%b8-10-%d1%80%d0%be%d0%ba%d1%96%d0%b2-%d0%be%d0%b1%d1%94%d0%b4%d0%bd%d0%b0%d0%bd%d1%96-%d0%bf%d1%96%d1%81/
CATEGORIES:Концерти
ATTACH;FMTTYPE=image/jpeg:http://mbk.rv.ua/wp-content/uploads/2026/04/Кольорові-ноти-10.jpg
END:VEVENT
END:VCALENDAR